


BEGIN:VCALENDAR
VERSION:2.0
PRODID:-//CBH Rio das Velhas - ECPv5.16.3.1//NONSGML v1.0//EN
CALSCALE:GREGORIAN
METHOD:PUBLISH
X-WR-CALNAME:CBH Rio das Velhas
X-ORIGINAL-URL:https://cbhvelhas.org.br
X-WR-CALDESC:Eventos para CBH Rio das Velhas
BEGIN:VTIMEZONE
TZID:America/Sao_Paulo
BEGIN:STANDARD
TZOFFSETFROM:-0300
TZOFFSETTO:-0300
TZNAME:-03
DTSTART:20260101T000000
END:STANDARD
END:VTIMEZONE
BEGIN:VEVENT
DTSTART;TZID=America/Sao_Paulo:20260422T090000
DTEND;TZID=America/Sao_Paulo:20260422T113000
DTSTAMP:20260421T222205
CREATED:20260420T135511Z
LAST-MODIFIED:20260420T135511Z
UID:82225-1776848400-1776857400@cbhvelhas.org.br
SUMMARY:Reunião Ordinária do SCBH Caeté-Sabará
DESCRIPTION:Em continuidade aos trabalhos de mobilização e gestão compartilhada na bacia\, convocamos os membros do Subcomitê Ribeirão Caeté-Sabará\, para a reunião ordinária online. \nDATA: Próxima Quarta-feira\, 22 de abril de 2026\nHORÁRIO: 09h\nLINK: https://us06web.zoom.us/j/83817897234 \nPAUTA:\n09h: Abertura e aprovação da memória de reunião de 04/03/2026 (em anexo).\n09:20h: Ações locais de educação ambiental: Vigilância Sanitária de Caeté.\n09:50h: Propostas de submissão no Procedimento de Manifestação de Interesse para Programa de Esgotamento Sanitário em localidades rurais (acesse edital).\n10:10h: Envio de ofício 06/2026 à prefeitura de Sabará (em anexo)\, relato de reunião com Promotoria de Justiça e encaminhamentos de reuniões anteriores:\nTAC recuperação córrego Sobradinho;\nPRAD Mineração Ravena;\nLoteamentos irregulares na região da Pedra Rachada.\nocupação irregular em APP do Ribeirão Caeté-Sabará\n10:40h: Status do projeto de Recomposição Florestal da UTE Caeté-Sabará e proposta de novos projetos para o território. Responsável: Probiomas.\n11h: Formação de conselheiras/os: Reverberações do Plano Diretor da Bacia do rio das Velhas na UTE Ribeirão Arrudas. Responsável: Equipe de Mobilização / TANTO (acesse aqui).\n11h20: Informes\na. Ações do Dia da Água\nb. Consulta Pública da etapa de efetivação do Enquadramento – 30/04 (acesse notícia).\nc. Encontro de gestores municipais da bacia do Velhas – 13/05 (acesse notícia).\nd. Outros informes. \nInformações complementares e a confirmação de presença poderão ser realizadas através do telefone (31) 99130-9572 ou pelo endereço eletrônico bruno.sperling@cbhvelhas.org.br. \n\n 
URL:https://cbhvelhas.org.br/evento/reuniao-ordinaria-do-scbh-caete-sabara-7/
END:VEVENT
BEGIN:VEVENT
DTSTART;TZID=America/Sao_Paulo:20260422T140000
DTEND;TZID=America/Sao_Paulo:20260422T170000
DTSTAMP:20260421T222205
CREATED:20260420T134051Z
LAST-MODIFIED:20260420T134051Z
UID:82222-1776866400-1776877200@cbhvelhas.org.br
SUMMARY:Reunião Ordinária do SCBH Arrudas
DESCRIPTION:Em continuidade aos trabalhos de mobilização e gestão compartilhada na bacia\, convocamos os conselheiros para 160ª reunião ordinária\, em formato online. \nDATA: Próxima quarta-feira\, 22 de abril de 2026\nHORÁRIO: 14h\nLINK: https://us06web.zoom.us/j/82146555894. \nPAUTA:\n1. 14h: Certificação de quórum e aprovação da memória de reunião de 26/03/2026 (em anexo).\n2. 14h20: Relato da visita técnica para implantação do Parque do Calafate.\n3. 14h50: Ofícios nº 65\, 66\, 67 e 69 e encaminhamentos de reuniões anteriores (em anexo\, exceto o 69).\n4. 15h20: Alinhamentos para reunião com a SUDECAP – 24/02.\n5. 15h40: Formação de conselheiras/os: Reverberações do Plano Diretor da Bacia do rio das Velhas na UTE Ribeirão Arrudas (acesse aqui).\n6. 16h10: Informes.\na. Retorno da Copasa sobre lançamento de esgotos no córrego Cercadinho.\nb. Consulta Pública da etapa de efetivação do Enquadramento – 30/04 (ver notícia).\nc. Encontro de gestores municipais da bacia do Velhas – 13/05 (ver notícia).\nd. Outros informes. \nInformações complementares e a confirmação de presença poderão ser realizadas através do telefone (31) 99130-9572 ou pelo endereço eletrônico bruno.sperling@cbhvelhas.org.br.
URL:https://cbhvelhas.org.br/evento/reuniao-ordinaria-do-scbh-arrudas-3/
END:VEVENT
BEGIN:VEVENT
DTSTART;TZID=America/Sao_Paulo:20260423T090000
DTEND;TZID=America/Sao_Paulo:20260423T110000
DTSTAMP:20260421T222205
CREATED:20260420T140924Z
LAST-MODIFIED:20260420T140924Z
UID:82228-1776934800-1776942000@cbhvelhas.org.br
SUMMARY:Reunião ordinária do SCBH Santo Antônio e Maquiné
DESCRIPTION:Em continuidade aos trabalhos de mobilização e gestão compartilhada na bacia\, para o ano de 2026\, convocamos os membros do Subcomitê dos Ribeirões Santo Antônio e Maquiné\, para a reunião presencial. \nDATA: 23 de abril de 2026 (Próxima Quinta-feira) \nHORÁRIO: 9h \nLOCAL: CEFET- Curvelo \nENDEREÇO: R. Raymundo Mattoso\, 900 – Santa Rita\, Curvelo – MG \nPauta: \n1. Abertura\, recepção dos conselheiros e verificação de quórum; \n2. Aprovação da memória de reunião do dia 10/02/2026 (anexa); \n3. Indicação de área para programa PRA – Produzir Sustentável. Responsável: Thiago\, IEF; \n4. Apresentação de iniciativas de educação ambiental – Jovens Mineiros Sustentáveis. Responsável: Alice; \n5. Informes\, assuntos gerais\, discussões e encaminhamentos \nDiálogos do conhecimento: Tratamento terciário- ampliação e modernização da ETE Onça \nConfirmação de presença: leticia.vitorino@cbhvelhas.org.br. \n\n 
URL:https://cbhvelhas.org.br/evento/reuniao-ordinaria-do-scbh-santo-antonio-e-maquine-4/
END:VEVENT
BEGIN:VEVENT
DTSTART;TZID=America/Sao_Paulo:20260427T090000
DTEND;TZID=America/Sao_Paulo:20260427T113000
DTSTAMP:20260421T222205
CREATED:20260420T141404Z
LAST-MODIFIED:20260420T141404Z
UID:82231-1777280400-1777289400@cbhvelhas.org.br
SUMMARY:Reunião Extraordinária da Diretoria Ampliada
DESCRIPTION:Os membros da Diretoria Ampliada do Comitê da Bacia Hidrográfica do Rio das Velhas estão convocados para reunião ordinária que será realizada no dia 27 de abril de 2026 (segunda-feira) às 09h00 na plataforma Teams. \nPAUTA \nAbertura e recepção dos conselheiros e convidados;\nInformações recentes sobre o Seminário de Segurança Hídrica do Alto Rio das Velhas;\nProcesso de Enquadramento da bacia do Rio das Velhas: consultas públicas e preparação para a próxima plenária;\nPossibilidade de mudança de endereço da sede do comitê;\nOperação das ‘Soluções Individuais de Tratamento de Efluentes Domésticos’;\nEncontro de Gestores Municipais da Bacia do Rio das Velhas;\nParticipação do CBH Rio das Velhas no Fórum Nacional de Comitês;\nassuntos gerais e encerramento. \nConfirmação de presença: dimas.silva@agenciapeixevivo.org.br. \n\n 
URL:https://cbhvelhas.org.br/evento/reuniao-extraordinaria-da-diretoria-ampliada/
END:VEVENT
BEGIN:VEVENT
DTSTART;TZID=America/Sao_Paulo:20260428T143000
DTEND;TZID=America/Sao_Paulo:20260428T163000
DTSTAMP:20260421T222205
CREATED:20260415T231123Z
LAST-MODIFIED:20260415T231123Z
UID:82201-1777386600-1777393800@cbhvelhas.org.br
SUMMARY:Projeto Conservador das Águas - Ambiente em Foco Virtual
DESCRIPTION:O Projeto Conservador das Águas de Extrema é a primeira experiência brasileira em pagamento por serviços ambientais\, instituído em 2005 através da lei 2.100/2005. \nPalestrante: Exmo Sr. Paulo Henrique Pereira – Biólogo\, Gestor Ambiental e Secret&aacute ;rio de Meio Ambiente do município de Extrema – Minas Gerais. \n– Data: 28/04/2026 – Terça-feira. \n– Horário: 14h30min às 16h00min \n– Local: Plataforma virtual – o link para acesso a Sala onde ocorrerá a palestra será enviado por e-mail aos inscritos. \n– A Inscrição deverá ser feita individualmente utilizando o Link: https://forms.gle/Re2yF3LxMByBz8GB7 \nA confirmação de inscrição\, as orientações para participação e o link para acesso da plataforma e sala virtual onde ocorrerá a palestra\, serão enviados posteriormente por um e-mail do Ambiente em Foco Virtual. \nEm caso de dúvidas\, gentileza enviar e-mail para: ambienteemfoco@pbh.gov.br \n\n 
URL:https://cbhvelhas.org.br/evento/projeto-conservador-das-aguas-ambiente-em-foco-virtual/
END:VEVENT
END:VCALENDAR