


BEGIN:VCALENDAR
VERSION:2.0
PRODID:-//CBH Rio das Velhas - ECPv5.16.3.1//NONSGML v1.0//EN
CALSCALE:GREGORIAN
METHOD:PUBLISH
X-WR-CALNAME:CBH Rio das Velhas
X-ORIGINAL-URL:https://cbhvelhas.org.br
X-WR-CALDESC:Eventos para CBH Rio das Velhas
BEGIN:VTIMEZONE
TZID:America/Sao_Paulo
BEGIN:STANDARD
TZOFFSETFROM:-0200
TZOFFSETTO:-0300
TZNAME:-03
DTSTART:20160221T020000
END:STANDARD
BEGIN:DAYLIGHT
TZOFFSETFROM:-0300
TZOFFSETTO:-0200
TZNAME:-02
DTSTART:20161016T030000
END:DAYLIGHT
END:VTIMEZONE
BEGIN:VEVENT
DTSTART;TZID=America/Sao_Paulo:20161021T133000
DTEND;TZID=America/Sao_Paulo:20161021T173000
DTSTAMP:20260422T184712
CREATED:20200213T185521Z
LAST-MODIFIED:20200213T185521Z
UID:61317-1477056600-1477071000@cbhvelhas.org.br
SUMMARY:92ª Plenária do CBH Rio das Velhas acontece em Belo Horizonte (MG)
DESCRIPTION:Ações do Grupo Gestor de Vazão do Alto Rio das Velhas\, projeto de valorização de nascentes urbanas na bacia do Ribeirão Arrudas\, Seminário Alto Rio das Velhas e Seminário CBH Rio das Velhas/ CBH Rio Paraopeba estão entre os assuntos que serão discutidos na reunião.\nO encontro acontece no dia 21 de outubro de 2016 (sexta-feira)\, às 13h30\, no Auditório da FAEMG – Avenida Carandaí 1.115 – 5º andar – Funcionários – BH/MG. \nConheça a pauta:\n13h30 – Recepção e credenciamento\n13h40 – Abertura e verificação de quórum\n13h45 – Informes: Posse CBHSF; Seminário Alto Rio das Velhas; Seminário CBH Rio das Velhas/ CBH Rio Paraopeba; Bacias de dentenção na bacia hidrográfica do Ribeirão Arrudas; Processo de outorga nº 0923/2011 – Barragem Maravilhas III – Vale S.A; Aplicação dos recursos da Cobrança – projetos hidroambientais e de saneamento.\n14h20 – Aprovação da ata da 91º reunião realizada em 29/08/2016\n14h30 – Apresentações:\n. Ações do Grupo Gestor de Vazão do Alto Rio das Velhas\n. Apresentação do Cadastro Ambiental Rural na bacia do Rio das Velhas\n15h30 – Projeto de valorização de nascentes urbanas nas bacias dos ribeirões Arrudas. Apresentação: NEOGEO\n16h00 – Deliberações:\nDeliberação CBH Rio das Velhas nº 03/2016\, Ad referendum do Plenário: Aprova os Processos de outorga nº 15960/2014 e nº 15961/2014 EIMCAL – Indústria de Mineração Calcária\nDeliberação CBH Rio das Velhas nº 04/2016\, Ad Referendum do Plenário: Aprova os Processos de outorga nº 28859/2013 Anglogold – Córrego do Sítio Mineração Ltda\nDeliberação CBH Rio das Velhas nº 05/2016\, Ad Referendum do Plenário: Aprova o Primeiro Termo Aditivo ao Contrato de Gestão nº 02/IGAM/2012 celebrado entre o Instituto Mineiro de Gestão das Águas e a Associação Executiva de Apoio à Gestão de Bacias Hidrográficas Peixe Vivo – AGB Peixe Vivo\n16h30 – Assuntos gerais e encaminhamentos\n17h00 – Encerramento \nFavor confirmar presença pelo e-mail: amanda.amorim@agbpeixevivo.org.br
URL:https://cbhvelhas.org.br/evento/92a-plenaria-do-cbh-rio-das-velhas-acontece-em-belo-horizonte-mg/
END:VEVENT
END:VCALENDAR