


BEGIN:VCALENDAR
VERSION:2.0
PRODID:-//CBH Rio das Velhas - ECPv5.16.3.1//NONSGML v1.0//EN
CALSCALE:GREGORIAN
METHOD:PUBLISH
X-WR-CALNAME:CBH Rio das Velhas
X-ORIGINAL-URL:https://cbhvelhas.org.br
X-WR-CALDESC:Eventos para CBH Rio das Velhas
BEGIN:VTIMEZONE
TZID:America/Sao_Paulo
BEGIN:STANDARD
TZOFFSETFROM:-0200
TZOFFSETTO:-0300
TZNAME:-03
DTSTART:20160221T020000
END:STANDARD
BEGIN:DAYLIGHT
TZOFFSETFROM:-0300
TZOFFSETTO:-0200
TZNAME:-02
DTSTART:20161016T030000
END:DAYLIGHT
END:VTIMEZONE
BEGIN:VEVENT
DTSTART;TZID=America/Sao_Paulo:20161122T090000
DTEND;TZID=America/Sao_Paulo:20161122T120000
DTSTAMP:20260423T003317
CREATED:20200213T185519Z
LAST-MODIFIED:20200213T185519Z
UID:61290-1479805200-1479816000@cbhvelhas.org.br
SUMMARY:Câmara Técnica de Outorga e Cobrança se reúne na sede do Comitê
DESCRIPTION:Processo de Outorga N° 25176/2014\, referente à canalização e retificação no Córrego Barreiro\, Avenida Niemeyer – Distrito de Justinópolis é um dos assuntos que será discutido na reunião.\nO encontro acontece no dia 22 de novembro de 2016 (terça-feira)\, com início às 08h30\, na Sede do CBH Rio das Velhas\, localizada na Rua dos Carijós\, n°150\, 10° Andar – Centro\, Belo Horizonte/ Minas Gerais. \nConheça a pauta:\n08h30. Abertura e verificação de quórum;\n08h45. Aprovação da ata – reunião realizada dia 19/09/2016;\n09h00. Apresentação e discussão do Processo de Outorga N° 25176/2014\, referente à canalização e retificação no Córrego Barreiro\, Avenida Niemeyer – Distrito de Justinópolis. Requerente: Prefeitura Municipal de Ribeirão das Neves;\n11h00. Encaminhamentos.\n11h30. Encerramento. \nVeja o mapa de localização:\n \nQuaisquer informações complementares e a confirmação de sua presença ou representante poderão ser feitas através dos telefones (31) 3207 8525 ou por meio do endereço eletrônico amanda.amorim@agbpeixevivo.org.br.
URL:https://cbhvelhas.org.br/evento/camara-tecnica-de-outorga-e-cobranca-se-reune-na-sede-do-comite-10/
END:VEVENT
END:VCALENDAR