


BEGIN:VCALENDAR
VERSION:2.0
PRODID:-//CBH Rio das Velhas - ECPv5.16.3.1//NONSGML v1.0//EN
CALSCALE:GREGORIAN
METHOD:PUBLISH
X-WR-CALNAME:CBH Rio das Velhas
X-ORIGINAL-URL:https://cbhvelhas.org.br
X-WR-CALDESC:Eventos para CBH Rio das Velhas
BEGIN:VTIMEZONE
TZID:America/Sao_Paulo
BEGIN:STANDARD
TZOFFSETFROM:-0200
TZOFFSETTO:-0300
TZNAME:-03
DTSTART:20180218T020000
END:STANDARD
BEGIN:DAYLIGHT
TZOFFSETFROM:-0300
TZOFFSETTO:-0200
TZNAME:-02
DTSTART:20181104T030000
END:DAYLIGHT
END:VTIMEZONE
BEGIN:VEVENT
DTSTART;TZID=America/Sao_Paulo:20180322T190000
DTEND;TZID=America/Sao_Paulo:20180321T210000
DTSTAMP:20260421T190752
CREATED:20200213T185405Z
LAST-MODIFIED:20200213T185405Z
UID:61236-1521745200-1521666000@cbhvelhas.org.br
SUMMARY:Confira a programação do município de Sete Lagoas em comemoração ao Dia Mundial da Água
DESCRIPTION:Confira a programação do município de Sete Lagoas em comemoração ao Dia Mundial da Água.\nVeja o convite:
URL:https://cbhvelhas.org.br/evento/confira-a-programacao-do-municipio-de-sete-lagoas-em-comemoracao-ao-dia-mundial-da-agua/
END:VEVENT
END:VCALENDAR