


BEGIN:VCALENDAR
VERSION:2.0
PRODID:-//CBH Rio das Velhas - ECPv5.16.3.1//NONSGML v1.0//EN
CALSCALE:GREGORIAN
METHOD:PUBLISH
X-WR-CALNAME:CBH Rio das Velhas
X-ORIGINAL-URL:https://cbhvelhas.org.br
X-WR-CALDESC:Eventos para CBH Rio das Velhas
BEGIN:VTIMEZONE
TZID:America/Sao_Paulo
BEGIN:STANDARD
TZOFFSETFROM:-0200
TZOFFSETTO:-0300
TZNAME:-03
DTSTART:20160221T020000
END:STANDARD
BEGIN:DAYLIGHT
TZOFFSETFROM:-0300
TZOFFSETTO:-0200
TZNAME:-02
DTSTART:20161016T030000
END:DAYLIGHT
END:VTIMEZONE
BEGIN:VEVENT
DTSTART;TZID=America/Sao_Paulo:20161107T000000
DTEND;TZID=America/Sao_Paulo:20161108T000000
DTSTAMP:20260420T095506
CREATED:20200213T185520Z
LAST-MODIFIED:20200213T185520Z
UID:61298-1478476800-1478563200@cbhvelhas.org.br
SUMMARY:Curso de capacitação sobre ICMS Ecológico e Unidades de Conservação acontecerá em Buenópolis (MG)
DESCRIPTION:A atividade acontecerá nos dias 07 e 08 de novembro\, na Sede Administrativa do Parque Estadual da Serra do Cabral\, na Alameda Serra do Cabral\, 726 – Horto Florestal / Riachão.\nPúblico Alvo: Gestores Municipais eleitos para 2017 nos municípios de Augusto de Lima\, Bocaiuva\, Buenópolis\, Coração de Jesus\, Francisco Dumont\, Jequitaí\, Joaquim Felício\, Lassance\, Olhos D’água e Várzea da Palma. \nProgramação:\n07/11 (Segunda-feira) \n13:30 – Credenciamento\n14:00 – Abertura e Apresentações\n14:20 – ICMS Ecológico: Legislações e Normas\n15:00 – Como Criar uma Unidade de Conservação\n15:30 – Lanche\n16:00 – Cadastro de Unidades de Conservação\n17:30 – Encerramento do 1º dia \n08/11 – (Terça-feira) \n07:30 – Café da manhã\n08:00 – ICMS Ecológico: Formulário de Fator de Qualidade\n11:30 – Encerramento \nVeja o convite: \n \nMais Informações:\nCBH Rio das Velhas pelo tel.: (31)3222-8350 E-mail: diogo.carvalho@cbhvelhas.org.br
URL:https://cbhvelhas.org.br/evento/curso-de-capacitacao-sobre-icms-ecologico-e-unidades-de-conservacao-acontecera-em-buenopolis-mg/
END:VEVENT
END:VCALENDAR