


BEGIN:VCALENDAR
VERSION:2.0
PRODID:-//CBH Rio das Velhas - ECPv5.16.3.1//NONSGML v1.0//EN
CALSCALE:GREGORIAN
METHOD:PUBLISH
X-WR-CALNAME:CBH Rio das Velhas
X-ORIGINAL-URL:https://cbhvelhas.org.br
X-WR-CALDESC:Eventos para CBH Rio das Velhas
BEGIN:VTIMEZONE
TZID:America/Sao_Paulo
BEGIN:STANDARD
TZOFFSETFROM:-0200
TZOFFSETTO:-0300
TZNAME:-03
DTSTART:20180218T020000
END:STANDARD
BEGIN:DAYLIGHT
TZOFFSETFROM:-0300
TZOFFSETTO:-0200
TZNAME:-02
DTSTART:20181104T030000
END:DAYLIGHT
END:VTIMEZONE
BEGIN:VEVENT
DTSTART;TZID=America/Sao_Paulo:20180217T090000
DTEND;TZID=America/Sao_Paulo:20180217T130000
DTSTAMP:20260422T224257
CREATED:20200213T185406Z
LAST-MODIFIED:20200213T185406Z
UID:61252-1518858000-1518872400@cbhvelhas.org.br
SUMMARY:Curso de Sensibilização será realizado na bacia do Ribeirão Onça\, em Belo Horizonte (MG)
DESCRIPTION:O Comitê da Bacia Hidrográfica do Rio das Velhas (CBH Rio das Velhas) e Subcomitê Ribeirão Onça irão realizar Curso de Sensibilização Ambiental na bacia hidrográfica do Ribeirão Onça\, em Belo Horizonte/MG.\nO tema da aula será Elaboração de Projetos e Captação de Recursos\, que tem o objetivo de expressar as idéias e transformá-las em PROJETOS. \nO evento acontecerá no dia 17 de janeiro (sábado)\, às 09h00h\, no auditório da regional de Venda Nova\, Rua Érico Veríssimo\, 1428 – Santa Mônica. \nVeja o convite:
URL:https://cbhvelhas.org.br/evento/curso-de-sensibilizacao-sera-realizado-na-bacia-do-ribeirao-onca-em-belo-horizonte-mg/
END:VEVENT
END:VCALENDAR