


BEGIN:VCALENDAR
VERSION:2.0
PRODID:-//CBH Rio das Velhas - ECPv5.16.3.1//NONSGML v1.0//EN
CALSCALE:GREGORIAN
METHOD:PUBLISH
X-WR-CALNAME:CBH Rio das Velhas
X-ORIGINAL-URL:https://cbhvelhas.org.br
X-WR-CALDESC:Eventos para CBH Rio das Velhas
BEGIN:VTIMEZONE
TZID:America/Sao_Paulo
BEGIN:STANDARD
TZOFFSETFROM:-0200
TZOFFSETTO:-0300
TZNAME:-03
DTSTART:20180218T020000
END:STANDARD
BEGIN:DAYLIGHT
TZOFFSETFROM:-0300
TZOFFSETTO:-0200
TZNAME:-02
DTSTART:20181104T030000
END:DAYLIGHT
END:VTIMEZONE
BEGIN:VEVENT
DTSTART;TZID=America/Sao_Paulo:20180411T190000
DTEND;TZID=America/Sao_Paulo:20180411T220000
DTSTAMP:20260421T194836
CREATED:20200213T185404Z
LAST-MODIFIED:20200213T185404Z
UID:61224-1523473200-1523484000@cbhvelhas.org.br
SUMMARY:“Estudo Hidrogeológico de Sete Lagoas e a Preservação dos Cursos d’água” será tema de seminário em Sete Lagoas
DESCRIPTION:Seminário sobre “Estudo Hidrogeológico de Sete Lagoas e a Preservação dos Cursos d’água” será tema de seminário em Sete Lagoas. Na oportunidade será apresentado a importância da região Cárstica da Bacia do Rio das Velhas. \nO evento acontecerá no dia 11 de abril de 2018 (quarta-feira)\, às 19h00\, no UNIFEMM. \nConfira o convite:
URL:https://cbhvelhas.org.br/evento/estudo-hidrogeologico-de-sete-lagoas-e-a-preservacao-dos-cursos-dagua-sera-tema-de-seminario-em-sete-lagoas/
END:VEVENT
END:VCALENDAR