


BEGIN:VCALENDAR
VERSION:2.0
PRODID:-//CBH Rio das Velhas - ECPv5.16.3.1//NONSGML v1.0//EN
CALSCALE:GREGORIAN
METHOD:PUBLISH
X-WR-CALNAME:CBH Rio das Velhas
X-ORIGINAL-URL:https://cbhvelhas.org.br
X-WR-CALDESC:Eventos para CBH Rio das Velhas
BEGIN:VTIMEZONE
TZID:America/Sao_Paulo
BEGIN:STANDARD
TZOFFSETFROM:-0200
TZOFFSETTO:-0300
TZNAME:-03
DTSTART:20160221T020000
END:STANDARD
BEGIN:DAYLIGHT
TZOFFSETFROM:-0300
TZOFFSETTO:-0200
TZNAME:-02
DTSTART:20161016T030000
END:DAYLIGHT
END:VTIMEZONE
BEGIN:VEVENT
DTSTART;TZID=America/Sao_Paulo:20161029T090000
DTEND;TZID=America/Sao_Paulo:20161029T000000
DTSTAMP:20260422T054818
CREATED:20200213T185520Z
LAST-MODIFIED:20200213T185520Z
UID:61303-1477731600-1477699200@cbhvelhas.org.br
SUMMARY:Evento de valorização de nascentes urbanas acontece em Contagem (MG)
DESCRIPTION:O Comitê de Bacia Hidrográfica do Rio das Velhas e o Subcomitê Ribeirão Arrudas irão realizar o evento “Disseminando alternativas sustentáveis para valorizar nascentes urbanas na Bacia Hidrográfica do Ribeirão Arrudas” no dia 29 de outubro (sábado)\, às 09h\, no Conjunto Habitacional Sandoval de Azevedo\, localizado na Rua Gama\, 41 – Em frente ao Bloco 31 (ao lado da quadra) – Jardim Industrial\, em Contagem.\nConheça a programação:\n. Abertura e apresentação do Projeto\nEquipe Neogeo – 2510-2700\nCecília Rute – SCBH Arrudas – 3351-3009\n. Compostagem\nPlantio de mudas\nEquipe NEOGEO \nVeja o convite:
URL:https://cbhvelhas.org.br/evento/evento-de-valorizacao-de-nascentes-urbanas-acontece-em-contagem-mg/
END:VEVENT
END:VCALENDAR