


BEGIN:VCALENDAR
VERSION:2.0
PRODID:-//CBH Rio das Velhas - ECPv5.16.3.1//NONSGML v1.0//EN
CALSCALE:GREGORIAN
METHOD:PUBLISH
X-WR-CALNAME:CBH Rio das Velhas
X-ORIGINAL-URL:https://cbhvelhas.org.br
X-WR-CALDESC:Eventos para CBH Rio das Velhas
BEGIN:VTIMEZONE
TZID:America/Sao_Paulo
BEGIN:STANDARD
TZOFFSETFROM:-0200
TZOFFSETTO:-0300
TZNAME:-03
DTSTART:20180218T020000
END:STANDARD
BEGIN:DAYLIGHT
TZOFFSETFROM:-0300
TZOFFSETTO:-0200
TZNAME:-02
DTSTART:20181104T030000
END:DAYLIGHT
END:VTIMEZONE
BEGIN:VEVENT
DTSTART;TZID=America/Sao_Paulo:20180414T080000
DTEND;TZID=America/Sao_Paulo:20180414T180000
DTSTAMP:20260422T012345
CREATED:20200213T185404Z
LAST-MODIFIED:20200213T185404Z
UID:61217-1523692800-1523728800@cbhvelhas.org.br
SUMMARY:Fórum Comunitário acontece no bairro Jardim Felicidade\, em Belo Horizonte
DESCRIPTION:A Rede de Apoio ao Desenvolvimento do Bairro Jardim Felicidade e parceiros irão realizar no próximo sábado\, dia 14 de abril de 2018\, às 08h na Escola Jardim Felicidade\, o 5º Fórum Comunitário – Vozes em Transformação.\nSerá um momento de grande troca de conhecimentos e experiências. Não perca! \nFaça logo a sua inscrição através do link: https://goo.gl/forms/uRIFyRf7Df5r15kg1. \nConfira o convite:
URL:https://cbhvelhas.org.br/evento/forum-comunitario-acontece-no-bairro-jardim-felicidade-em-belo-horizonte/
END:VEVENT
END:VCALENDAR