


BEGIN:VCALENDAR
VERSION:2.0
PRODID:-//CBH Rio das Velhas - ECPv5.16.3.1//NONSGML v1.0//EN
CALSCALE:GREGORIAN
METHOD:PUBLISH
X-WR-CALNAME:CBH Rio das Velhas
X-ORIGINAL-URL:https://cbhvelhas.org.br
X-WR-CALDESC:Eventos para CBH Rio das Velhas
BEGIN:VTIMEZONE
TZID:America/Sao_Paulo
BEGIN:STANDARD
TZOFFSETFROM:-0200
TZOFFSETTO:-0300
TZNAME:-03
DTSTART:20180218T020000
END:STANDARD
BEGIN:DAYLIGHT
TZOFFSETFROM:-0300
TZOFFSETTO:-0200
TZNAME:-02
DTSTART:20181104T030000
END:DAYLIGHT
END:VTIMEZONE
BEGIN:VEVENT
DTSTART;TZID=America/Sao_Paulo:20180411T100000
DTEND;TZID=America/Sao_Paulo:20180412T000000
DTSTAMP:20260421T174932
CREATED:20200213T185405Z
LAST-MODIFIED:20200213T185405Z
UID:61231-1523440800-1523491200@cbhvelhas.org.br
SUMMARY:Ibama realizará o I Seminário sobre Conversão de Multas Ambientais\, em Brasília
DESCRIPTION:O Instituto Brasileiro do Meio Ambiente e dos Recursos Naturais Renováveis (Ibama) realizará o I Seminário sobre Conversão de Multas Ambientais e apresentação do Chamamento Público para a seleção de projetos relacionados às bacias dos rios São Francisco e Parnaíba. O evento será realizado nos dias 11 e 12 de abril\, na sede do Ibama em Brasília (DF). \nMais informações\, acesse: http://www.ibama.gov.br/seminarioconversao \nVeja o convite:
URL:https://cbhvelhas.org.br/evento/ibama-realizara-o-i-seminario-sobre-conversao-de-multas-ambientais-em-brasilia/
END:VEVENT
END:VCALENDAR