


BEGIN:VCALENDAR
VERSION:2.0
PRODID:-//CBH Rio das Velhas - ECPv5.16.3.1//NONSGML v1.0//EN
CALSCALE:GREGORIAN
METHOD:PUBLISH
X-WR-CALNAME:CBH Rio das Velhas
X-ORIGINAL-URL:https://cbhvelhas.org.br
X-WR-CALDESC:Eventos para CBH Rio das Velhas
BEGIN:VTIMEZONE
TZID:America/Sao_Paulo
BEGIN:STANDARD
TZOFFSETFROM:-0200
TZOFFSETTO:-0300
TZNAME:-03
DTSTART:20180218T020000
END:STANDARD
BEGIN:DAYLIGHT
TZOFFSETFROM:-0300
TZOFFSETTO:-0200
TZNAME:-02
DTSTART:20181104T030000
END:DAYLIGHT
END:VTIMEZONE
BEGIN:VEVENT
DTSTART;TZID=America/Sao_Paulo:20180415T090000
DTEND;TZID=America/Sao_Paulo:20180415T180000
DTSTAMP:20260422T031532
CREATED:20200213T185404Z
LAST-MODIFIED:20200213T185404Z
UID:61223-1523782800-1523815200@cbhvelhas.org.br
SUMMARY:Núcleo Capão realizará evento “Abrace o Parque do Capão”!
DESCRIPTION:No próximo domingo (15)\, a partir das 09h\, na Escola Estadual Menino Jesus de Praga\, em Venda Nova\, acontecerá atividades de mobilização do projeto alternativo do ‘Parque Linear do Córrego do Capão’. No encontro\, haverá ações de plantio de mudas\, mutirão de limpeza e atrações culturais. \nConfira o convite:\n \n \n 
URL:https://cbhvelhas.org.br/evento/nucleo-capao-realizara-evento-abrace-o-parque-do-capao/
END:VEVENT
END:VCALENDAR