


BEGIN:VCALENDAR
VERSION:2.0
PRODID:-//CBH Rio das Velhas - ECPv5.16.3.1//NONSGML v1.0//EN
CALSCALE:GREGORIAN
METHOD:PUBLISH
X-WR-CALNAME:CBH Rio das Velhas
X-ORIGINAL-URL:https://cbhvelhas.org.br
X-WR-CALDESC:Eventos para CBH Rio das Velhas
BEGIN:VTIMEZONE
TZID:America/Sao_Paulo
BEGIN:STANDARD
TZOFFSETFROM:-0200
TZOFFSETTO:-0300
TZNAME:-03
DTSTART:20180218T020000
END:STANDARD
BEGIN:DAYLIGHT
TZOFFSETFROM:-0300
TZOFFSETTO:-0200
TZNAME:-02
DTSTART:20181104T030000
END:DAYLIGHT
END:VTIMEZONE
BEGIN:VEVENT
DTSTART;TZID=America/Sao_Paulo:20180113T090000
DTEND;TZID=America/Sao_Paulo:20180113T170000
DTSTAMP:20260423T120418
CREATED:20200213T185407Z
LAST-MODIFIED:20200213T185407Z
UID:61260-1515834000-1515862800@cbhvelhas.org.br
SUMMARY:Oficina de Capacitação Ambiental acontece em Ouro Preto (MG)
DESCRIPTION:O Comitê da Bacia Hidrográfica do Rio das Velhas e Subcomitê Nascentes realizará 3ª Oficina de Capacitação Ambiental do Projeto de Revitalização de Quatro Microbacias inseridas na Bacia Hidrográfica do Rio das Velhas e na APA Estadual Cachoeira das Andorinhas. \nO tema da oficina:  Recuperação de Áreas Degradadas / Desmatamento e Preservação Ambiental\nO encontro acontecerá no dia 13 de janeiro de 2018\, às 09h\, na Sede da Associação de Moradores – Rua Nossa Senhora do Carmo – S/Nº – São Bartolomeu – Ouro Preto / MG. \nConfira a programação:  \n \n  \n 
URL:https://cbhvelhas.org.br/evento/oficina-de-capacitacao-ambiental-acontece-em-ouro-preto-mg/
END:VEVENT
END:VCALENDAR