


BEGIN:VCALENDAR
VERSION:2.0
PRODID:-//CBH Rio das Velhas - ECPv5.16.3.1//NONSGML v1.0//EN
CALSCALE:GREGORIAN
METHOD:PUBLISH
X-WR-CALNAME:CBH Rio das Velhas
X-ORIGINAL-URL:https://cbhvelhas.org.br
X-WR-CALDESC:Eventos para CBH Rio das Velhas
BEGIN:VTIMEZONE
TZID:America/Sao_Paulo
BEGIN:STANDARD
TZOFFSETFROM:-0200
TZOFFSETTO:-0300
TZNAME:-03
DTSTART:20180218T020000
END:STANDARD
BEGIN:DAYLIGHT
TZOFFSETFROM:-0300
TZOFFSETTO:-0200
TZNAME:-02
DTSTART:20181104T030000
END:DAYLIGHT
END:VTIMEZONE
BEGIN:VEVENT
DTSTART;TZID=America/Sao_Paulo:20180427T090000
DTEND;TZID=America/Sao_Paulo:20180427T170000
DTSTAMP:20260423T041054
CREATED:20200213T185404Z
LAST-MODIFIED:20200213T185404Z
UID:61215-1524819600-1524848400@cbhvelhas.org.br
SUMMARY:Oficina de Capacitação Ambiental acontecerá em Augusto de Lima
DESCRIPTION:O tema da oficina abordará a importância do plantio de mudas e da manutenção da vegetação local para a recuperação de áreas degradadas e na preservação de erosão do solo.\nO encontro acontecerá no dia 27 de abril (sexta – feira)\, a partir das 09h\, na Barraca da Igreja – Comunidade do Espinho – Estrada de acesso à vila Santa Bárbara. \nConfira o convite:\n \n  \n 
URL:https://cbhvelhas.org.br/evento/oficina-de-capacitacao-ambiental-acontecera-em-augusto-de-lima/
END:VEVENT
END:VCALENDAR