


BEGIN:VCALENDAR
VERSION:2.0
PRODID:-//CBH Rio das Velhas - ECPv5.16.3.1//NONSGML v1.0//EN
CALSCALE:GREGORIAN
METHOD:PUBLISH
X-WR-CALNAME:CBH Rio das Velhas
X-ORIGINAL-URL:https://cbhvelhas.org.br
X-WR-CALDESC:Eventos para CBH Rio das Velhas
BEGIN:VTIMEZONE
TZID:America/Sao_Paulo
BEGIN:STANDARD
TZOFFSETFROM:-0200
TZOFFSETTO:-0300
TZNAME:-03
DTSTART:20180218T020000
END:STANDARD
BEGIN:DAYLIGHT
TZOFFSETFROM:-0300
TZOFFSETTO:-0200
TZNAME:-02
DTSTART:20181104T030000
END:DAYLIGHT
END:VTIMEZONE
BEGIN:VEVENT
DTSTART;TZID=America/Sao_Paulo:20180224T080000
DTEND;TZID=America/Sao_Paulo:20180224T120000
DTSTAMP:20260422T204107
CREATED:20200213T185406Z
LAST-MODIFIED:20200213T185406Z
UID:61250-1519459200-1519473600@cbhvelhas.org.br
SUMMARY:Oficina de Educação Ambiental acontece em Corinto (MG)
DESCRIPTION:O Comitê da Bacia Hidrográfica do Rio das Velhas (CBH Rio das Velhas) realizará a Oficina de Educação Ambiental do Projeto Hidroambiental da UTE Ribeirão Picão.\nO encontro acontecerá no dia 24 de fevereiro de 2018 às 08h00\, no Centro de Referência do Instituto Federal (IFNMG)\, Rua Risoleta Lima\, nº 1041\, bairro Clarindo de Paiva – Corinto/MG. \nA oficina abordará o tema Sustentabilidade Ambiental e Recomposição Florestal. \nVeja o convite:\n \nPROGRAME-SE E VENHA PARTICIPAR CONOSCO!
URL:https://cbhvelhas.org.br/evento/oficina-de-educacao-ambiental-acontece-em-corinto-mg/
END:VEVENT
END:VCALENDAR