


BEGIN:VCALENDAR
VERSION:2.0
PRODID:-//CBH Rio das Velhas - ECPv5.16.3.1//NONSGML v1.0//EN
CALSCALE:GREGORIAN
METHOD:PUBLISH
X-WR-CALNAME:CBH Rio das Velhas
X-ORIGINAL-URL:https://cbhvelhas.org.br
X-WR-CALDESC:Eventos para CBH Rio das Velhas
BEGIN:VTIMEZONE
TZID:America/Sao_Paulo
BEGIN:STANDARD
TZOFFSETFROM:-0200
TZOFFSETTO:-0300
TZNAME:-03
DTSTART:20160221T020000
END:STANDARD
BEGIN:DAYLIGHT
TZOFFSETFROM:-0300
TZOFFSETTO:-0200
TZNAME:-02
DTSTART:20161016T030000
END:DAYLIGHT
END:VTIMEZONE
BEGIN:VEVENT
DTSTART;TZID=America/Sao_Paulo:20161108T080000
DTEND;TZID=America/Sao_Paulo:20161108T170000
DTSTAMP:20260420T131006
CREATED:20200213T185521Z
LAST-MODIFIED:20200213T185521Z
UID:61314-1478592000-1478624400@cbhvelhas.org.br
SUMMARY:Oficinas do Programa de Monitoramento Ambiental Participativo em Presidente Juscelino
DESCRIPTION:O CBH Rio das Velhas convida professores e a comunidade da Bacia Hidrográfica do Rio Paraúna para participarem de duas oficinas do Programa de Monitoramento Ambiental Participativo que será realizada em Presidente Juscelino\, no dia 8 de novembro de 2016. \nInscrições e mais informações pelos telefones (31) 3409-9810 e 3409-9819.
URL:https://cbhvelhas.org.br/evento/oficinas-do-programa-de-monitoramento-ambiental-participativo-em-presidente-juscelino/
END:VEVENT
END:VCALENDAR