


BEGIN:VCALENDAR
VERSION:2.0
PRODID:-//CBH Rio das Velhas - ECPv5.16.3.1//NONSGML v1.0//EN
CALSCALE:GREGORIAN
METHOD:PUBLISH
X-WR-CALNAME:CBH Rio das Velhas
X-ORIGINAL-URL:https://cbhvelhas.org.br
X-WR-CALDESC:Eventos para CBH Rio das Velhas
BEGIN:VTIMEZONE
TZID:America/Sao_Paulo
BEGIN:STANDARD
TZOFFSETFROM:-0300
TZOFFSETTO:-0300
TZNAME:-03
DTSTART:20240101T000000
END:STANDARD
END:VTIMEZONE
BEGIN:VEVENT
DTSTART;TZID=America/Sao_Paulo:20240410T140000
DTEND;TZID=America/Sao_Paulo:20240410T170000
DTSTAMP:20260421T102016
CREATED:20240409T184003Z
LAST-MODIFIED:20240409T184003Z
UID:76811-1712757600-1712768400@cbhvelhas.org.br
SUMMARY:Reunião do Grupo de Trabalho de acompanhamento de Barragens\, do CBH Rio das Velhas
DESCRIPTION:Por solicitação da presidenta do CBH Rio das Velhas (Sra. Poliana Valgas)\, estamos encaminhando convite para participar de reunião virtual entre a Diretoria do CBH Rio das Velhas; o Grupo de Trabalho de acompanhamento de Barragens – GT Barragens do comitê; representantes da Fundação Estadual de Meio Ambiente (FEAM); Instituto Mineiro de Gestão das Águas (IGAM); Coordenadoria Estadual de Defesa Civil (CEDEC/MG) e; da empresa VALE S.A\, com o propósito de “alinhamento de informações e medidas de controle acerca da anomalia verificada na Barragem Forquilha III\, da empresa VALE S.A.” \nData: 10 de abril de 2024 (quarta-feira)\nHora: 14 horas\nLink: ReuniãoGTBarragens
URL:https://cbhvelhas.org.br/evento/reuniao-do-grupo-de-trabalho-de-acompanhamento-de-barragens-do-cbh-rio-das-velhas-2/
END:VEVENT
END:VCALENDAR