


BEGIN:VCALENDAR
VERSION:2.0
PRODID:-//CBH Rio das Velhas - ECPv5.16.3.1//NONSGML v1.0//EN
CALSCALE:GREGORIAN
METHOD:PUBLISH
X-WR-CALNAME:CBH Rio das Velhas
X-ORIGINAL-URL:https://cbhvelhas.org.br
X-WR-CALDESC:Eventos para CBH Rio das Velhas
BEGIN:VTIMEZONE
TZID:America/Sao_Paulo
BEGIN:STANDARD
TZOFFSETFROM:-0300
TZOFFSETTO:-0300
TZNAME:-03
DTSTART:20240101T000000
END:STANDARD
END:VTIMEZONE
BEGIN:VEVENT
DTSTART;TZID=America/Sao_Paulo:20240412T090000
DTEND;TZID=America/Sao_Paulo:20240412T120000
DTSTAMP:20260421T070937
CREATED:20240405T201931Z
LAST-MODIFIED:20240405T202000Z
UID:76791-1712912400-1712923200@cbhvelhas.org.br
SUMMARY:Reunião extraordinária CTECOM
DESCRIPTION:Convocação para reunião ordinária virtual que será realizada no dia 12 de abril de 2024\, com início às 9h00 na plataforma Teams. \nLink: Reunião CTECOM 12abr2024. \nPauta:\nItem 1 – Abertura\, verificação de quórum e recepção dos conselheiros e convidados;\nItem 2 – Composição da CTECOM – usuários de água;\nItem 3 – Revisão 02 do Plano de Educação Ambiental (PEA) com contribuições da CTECOM – Tanto Expresso;\nItem 4 – Apresentação do balanço das ações do “Programa continuado de comunicação e relacionamento\, do Comitê da Bacia Hidrográfica do Rio das Velhas” – Tanto Expresso;\nItem 5 – Assuntos gerais e encerramento. \nConfirmação de presença: dimas.silva@agenciapeixevivo.org.br.
URL:https://cbhvelhas.org.br/evento/reuniao-extraordinaria-ctecom/
END:VEVENT
END:VCALENDAR