


BEGIN:VCALENDAR
VERSION:2.0
PRODID:-//CBH Rio das Velhas - ECPv5.16.3.1//NONSGML v1.0//EN
CALSCALE:GREGORIAN
METHOD:PUBLISH
X-WR-CALNAME:CBH Rio das Velhas
X-ORIGINAL-URL:https://cbhvelhas.org.br
X-WR-CALDESC:Eventos para CBH Rio das Velhas
BEGIN:VTIMEZONE
TZID:America/Sao_Paulo
BEGIN:STANDARD
TZOFFSETFROM:-0300
TZOFFSETTO:-0300
TZNAME:-03
DTSTART:20260101T000000
END:STANDARD
END:VTIMEZONE
BEGIN:VEVENT
DTSTART;TZID=America/Sao_Paulo:20260422T140000
DTEND;TZID=America/Sao_Paulo:20260422T170000
DTSTAMP:20260420T142324
CREATED:20260420T134051Z
LAST-MODIFIED:20260420T134051Z
UID:82222-1776866400-1776877200@cbhvelhas.org.br
SUMMARY:Reunião Ordinária do SCBH Arrudas
DESCRIPTION:Em continuidade aos trabalhos de mobilização e gestão compartilhada na bacia\, convocamos os conselheiros para 160ª reunião ordinária\, em formato online. \nDATA: Próxima quarta-feira\, 22 de abril de 2026\nHORÁRIO: 14h\nLINK: https://us06web.zoom.us/j/82146555894. \nPAUTA:\n1. 14h: Certificação de quórum e aprovação da memória de reunião de 26/03/2026 (em anexo).\n2. 14h20: Relato da visita técnica para implantação do Parque do Calafate.\n3. 14h50: Ofícios nº 65\, 66\, 67 e 69 e encaminhamentos de reuniões anteriores (em anexo\, exceto o 69).\n4. 15h20: Alinhamentos para reunião com a SUDECAP – 24/02.\n5. 15h40: Formação de conselheiras/os: Reverberações do Plano Diretor da Bacia do rio das Velhas na UTE Ribeirão Arrudas (acesse aqui).\n6. 16h10: Informes.\na. Retorno da Copasa sobre lançamento de esgotos no córrego Cercadinho.\nb. Consulta Pública da etapa de efetivação do Enquadramento – 30/04 (ver notícia).\nc. Encontro de gestores municipais da bacia do Velhas – 13/05 (ver notícia).\nd. Outros informes. \nInformações complementares e a confirmação de presença poderão ser realizadas através do telefone (31) 99130-9572 ou pelo endereço eletrônico bruno.sperling@cbhvelhas.org.br.
URL:https://cbhvelhas.org.br/evento/reuniao-ordinaria-do-scbh-arrudas-3/
END:VEVENT
END:VCALENDAR