


BEGIN:VCALENDAR
VERSION:2.0
PRODID:-//CBH Rio das Velhas - ECPv5.16.3.1//NONSGML v1.0//EN
CALSCALE:GREGORIAN
METHOD:PUBLISH
X-WR-CALNAME:CBH Rio das Velhas
X-ORIGINAL-URL:https://cbhvelhas.org.br
X-WR-CALDESC:Eventos para CBH Rio das Velhas
BEGIN:VTIMEZONE
TZID:America/Sao_Paulo
BEGIN:STANDARD
TZOFFSETFROM:-0300
TZOFFSETTO:-0300
TZNAME:-03
DTSTART:20260101T000000
END:STANDARD
END:VTIMEZONE
BEGIN:VEVENT
DTSTART;TZID=America/Sao_Paulo:20260422T090000
DTEND;TZID=America/Sao_Paulo:20260422T113000
DTSTAMP:20260420T141906
CREATED:20260420T135511Z
LAST-MODIFIED:20260420T135511Z
UID:82225-1776848400-1776857400@cbhvelhas.org.br
SUMMARY:Reunião Ordinária do SCBH Caeté-Sabará
DESCRIPTION:Em continuidade aos trabalhos de mobilização e gestão compartilhada na bacia\, convocamos os membros do Subcomitê Ribeirão Caeté-Sabará\, para a reunião ordinária online. \nDATA: Próxima Quarta-feira\, 22 de abril de 2026\nHORÁRIO: 09h\nLINK: https://us06web.zoom.us/j/83817897234 \nPAUTA:\n09h: Abertura e aprovação da memória de reunião de 04/03/2026 (em anexo).\n09:20h: Ações locais de educação ambiental: Vigilância Sanitária de Caeté.\n09:50h: Propostas de submissão no Procedimento de Manifestação de Interesse para Programa de Esgotamento Sanitário em localidades rurais (acesse edital).\n10:10h: Envio de ofício 06/2026 à prefeitura de Sabará (em anexo)\, relato de reunião com Promotoria de Justiça e encaminhamentos de reuniões anteriores:\nTAC recuperação córrego Sobradinho;\nPRAD Mineração Ravena;\nLoteamentos irregulares na região da Pedra Rachada.\nocupação irregular em APP do Ribeirão Caeté-Sabará\n10:40h: Status do projeto de Recomposição Florestal da UTE Caeté-Sabará e proposta de novos projetos para o território. Responsável: Probiomas.\n11h: Formação de conselheiras/os: Reverberações do Plano Diretor da Bacia do rio das Velhas na UTE Ribeirão Arrudas. Responsável: Equipe de Mobilização / TANTO (acesse aqui).\n11h20: Informes\na. Ações do Dia da Água\nb. Consulta Pública da etapa de efetivação do Enquadramento – 30/04 (acesse notícia).\nc. Encontro de gestores municipais da bacia do Velhas – 13/05 (acesse notícia).\nd. Outros informes. \nInformações complementares e a confirmação de presença poderão ser realizadas através do telefone (31) 99130-9572 ou pelo endereço eletrônico bruno.sperling@cbhvelhas.org.br. \n\n 
URL:https://cbhvelhas.org.br/evento/reuniao-ordinaria-do-scbh-caete-sabara-7/
END:VEVENT
END:VCALENDAR