


BEGIN:VCALENDAR
VERSION:2.0
PRODID:-//CBH Rio das Velhas - ECPv5.16.3.1//NONSGML v1.0//EN
CALSCALE:GREGORIAN
METHOD:PUBLISH
X-WR-CALNAME:CBH Rio das Velhas
X-ORIGINAL-URL:https://cbhvelhas.org.br
X-WR-CALDESC:Eventos para CBH Rio das Velhas
BEGIN:VTIMEZONE
TZID:America/Sao_Paulo
BEGIN:STANDARD
TZOFFSETFROM:-0300
TZOFFSETTO:-0300
TZNAME:-03
DTSTART:20240101T000000
END:STANDARD
END:VTIMEZONE
BEGIN:VEVENT
DTSTART;TZID=America/Sao_Paulo:20240410T080000
DTEND;TZID=America/Sao_Paulo:20240410T170000
DTSTAMP:20260421T120653
CREATED:20240410T164237Z
LAST-MODIFIED:20240410T164237Z
UID:76823-1712736000-1712768400@cbhvelhas.org.br
SUMMARY:Reunião Ordinária SCBH Caeté-Sabará
DESCRIPTION:Prezadas(os) conselheiras(os) do SCBH Ribeirões Caeté-Sabará\,\nEm continuidade aos trabalhos de mobilização e gestão compartilhada na bacia\, convocamos os membros do Subcomitê\, para a reunião ordinária online. \nDATA: 17 de abril de 2024\nHORÁRIO: 09h\nLINK: https://us06web.zoom.us/j/86546368495. \nPAUTA:\n09h: Abertura e aprovação da memória de reunião de 26/04/2023 e 21/02/2024 (em anexo).\n09:10h: Plano de Águas da Arcelor Mittal. Responsável: Arcelor Mittal.\n09:50h: Status do Projeto de projeto de Recomposição Florestal da bacia dos Ribeirões Caeté-Sabará. Responsável: Probiomas\n10:20h: Relato das 1ª e 2ª Expedições do Caeté-Sabará.\n10:40h: Encaminhamentos últimas reuniões.\n11h: Informes\nAções de educação ambiental realizada desde a última reunião;\nDevolutiva Plano de Formação de Conselheiros do CBH Velhas;\nReunião Pública do Enquadramento de corpos de água – 15/03/2024;\nOfício Anglo Gold GLMA CB nº 41/2024;\nTRAGA O SEU! \nConfirmação de presença: bruno.sperling@cbhvelhas.org.br.
URL:https://cbhvelhas.org.br/evento/reuniao-ordinaria-scbh-caete-sabara-2/
END:VEVENT
END:VCALENDAR