


BEGIN:VCALENDAR
VERSION:2.0
PRODID:-//CBH Rio das Velhas - ECPv5.16.3.1//NONSGML v1.0//EN
CALSCALE:GREGORIAN
METHOD:PUBLISH
X-WR-CALNAME:CBH Rio das Velhas
X-ORIGINAL-URL:https://cbhvelhas.org.br
X-WR-CALDESC:Eventos para CBH Rio das Velhas
BEGIN:VTIMEZONE
TZID:America/Sao_Paulo
BEGIN:STANDARD
TZOFFSETFROM:-0300
TZOFFSETTO:-0300
TZNAME:-03
DTSTART:20240101T000000
END:STANDARD
END:VTIMEZONE
BEGIN:VEVENT
DTSTART;TZID=America/Sao_Paulo:20240416T140000
DTEND;TZID=America/Sao_Paulo:20240416T170000
DTSTAMP:20260421T053939
CREATED:20240409T195919Z
LAST-MODIFIED:20240409T195919Z
UID:76814-1713276000-1713286800@cbhvelhas.org.br
SUMMARY:Reunião Ordinária SCBH Onça
DESCRIPTION:Em continuidade aos trabalhos de mobilização e gestão compartilhada na bacia para o ano de 2024\, convocamos os membros do Subcomitê para a reunião ordinária\, a ser realizada por videoconferência via plataforma Zoom. \nPróxima Quinta-feira\, dia 16 de abril de 2024\, às 14 horas\nLink: https://us06web.zoom.us/j/86788141858. \nPauta:\n1. 14h: Certificação de quórum e aprovação da memória de reunião do dia 15/02.\n2. 14h15: Demanda análise qualidade da água no Quilombo Mangueiras.\n3.14h40: Propostas e relatos de educação ambiental.\n4. 15h30: Formação do Grupo de Mobilização e Educação Ambiental da Pampulha.\n5. 15h45: Repasses GT Bom Jesus;\n6. 16h: Repasses Núcleo Capão e possibilidades de retomada do GT Drenagem.\n7. 10h30: Informes.\nFórum de Educação Ambiental pelo Clima – Prefeitura de Contagem;\nDevolutiva Plano de Formação de Conselheiros do CBH Velhas;\nReunião Pública do Enquadramento de corpos de água – 15/03/2024;\nStatus Projeto Hidroambiental Quilombo Mangueiras;\nII Seminário Internacional Natureza Política;\nParticipação na construção do Plano Diretor Metropolitano;\nCongresso do Povo de Contagem. \nInformações complementares e a confirmação de presença poderão ser realizadas através do telefone (31) 99130-9572 ou pelo endereço eletrônico bruno.sperling@cbhvelhas.org.br.
URL:https://cbhvelhas.org.br/evento/reuniao-ordinaria-scbh-onca-4/
END:VEVENT
END:VCALENDAR