


BEGIN:VCALENDAR
VERSION:2.0
PRODID:-//CBH Rio das Velhas - ECPv5.16.3.1//NONSGML v1.0//EN
CALSCALE:GREGORIAN
METHOD:PUBLISH
X-WR-CALNAME:CBH Rio das Velhas
X-ORIGINAL-URL:https://cbhvelhas.org.br
X-WR-CALDESC:Eventos para CBH Rio das Velhas
BEGIN:VTIMEZONE
TZID:America/Sao_Paulo
BEGIN:STANDARD
TZOFFSETFROM:-0300
TZOFFSETTO:-0300
TZNAME:-03
DTSTART:20260101T000000
END:STANDARD
END:VTIMEZONE
BEGIN:VEVENT
DTSTART;TZID=America/Sao_Paulo:20260429T090000
DTEND;TZID=America/Sao_Paulo:20260429T113000
DTSTAMP:20260425T005659
CREATED:20260424T224540Z
LAST-MODIFIED:20260424T224540Z
UID:82266-1777453200-1777462200@cbhvelhas.org.br
SUMMARY:Reunião ordinária SCBH Ribeirão Jequitibá
DESCRIPTION:Em continuidade aos trabalhos de mobilização e gestão compartilhada da bacia para o ano de 2026\, convocamos os membros do Subcomitê do Ribeirão Jequitibá\, para a reunião PRESENCIAL. \nDATA: 29 de abril de 2026 (quarta-feira)\nHORÁRIO: 9:00\nLOCAL: Casarão\, Sete Lagoas\nENDEREÇO: Pça Tiradentes\, 257 – Centro\, Sete Lagoas – MG\, 35700-037 \nPAUTA:\n1. Abertura e aprovação da memória da reunião realizada no dia 24/02/2026 (anexa);\n2. Repasse sobre o andamento do PRA na APA do Machado. Responsável: Thiago;\n3. Atualizações sobre o projeto de Saneamento rural em Funilândia e Jequitibá. Resposável: Letícia;\n4. Informes gerais discussões e encaminhamentos.\n-Diálogos do conhecimento: Tratamento terciário – ampliação e modernização da ETE Onça.\n-Divulgação do edital de Saneamento Rural. \nInformações complementares e a confirmação de presença poderão ser realizadas através do telefone (35) 99155-0445 ou pelo endereço eletrônico leticia.vitorino@cbhvelhas.org.br. \n\n 
URL:https://cbhvelhas.org.br/evento/reuniao-ordinaria-scbh-ribeirao-jequitiba-10/
END:VEVENT
END:VCALENDAR