


BEGIN:VCALENDAR
VERSION:2.0
PRODID:-//CBH Rio das Velhas - ECPv5.16.3.1//NONSGML v1.0//EN
CALSCALE:GREGORIAN
METHOD:PUBLISH
X-WR-CALNAME:CBH Rio das Velhas
X-ORIGINAL-URL:https://cbhvelhas.org.br
X-WR-CALDESC:Eventos para CBH Rio das Velhas
BEGIN:VTIMEZONE
TZID:America/Sao_Paulo
BEGIN:STANDARD
TZOFFSETFROM:-0300
TZOFFSETTO:-0300
TZNAME:-03
DTSTART:20240101T000000
END:STANDARD
END:VTIMEZONE
BEGIN:VEVENT
DTSTART;TZID=America/Sao_Paulo:20240411T090000
DTEND;TZID=America/Sao_Paulo:20240411T120000
DTSTAMP:20260421T084435
CREATED:20240405T183300Z
LAST-MODIFIED:20240405T183300Z
UID:76788-1712826000-1712836800@cbhvelhas.org.br
SUMMARY:Reunião Ordinária SCBH Rio Itabirito
DESCRIPTION:Em continuidade aos trabalhos de mobilização e gestão compartilhada na bacia para o ano de 2023\, convocamos os membros do Subcomitê da Bacia Hidrográfica do Rio Itabirito\, para reunião online. \nDATA: 11 de abril de 2024\, (quinta-feira)\nHORÁRIO: 9h00 à 12h00\nLINK: https://us06web.zoom.us/j/86943023705. \nPauta:\nAbertura e aprovação da memória da reunião realizada no dia 15/02/2024;\nApresentação das propostas para estabelecimento do Rio Patrimônio e Geoparque dos Inconfidentes (Paulo de Tarso – UFOP);\nRelatório monitoramento das vazões do córrego Criminoso referente ao Processo de Outorga nº 1303068/2021 – Laticínios ITA Indústria e Comércio de Alimentos LTDA;\nEncaminhamentos do CBH Rio das Velhas acerca da saída de material dreno da barragem Forquilha III;\nInformes gerais\, discussões e encaminhamentos:\nFechamento data visita técnica barraginhas: Responda o questionário para definição da data por meio do link: https://forms.gle/xLJ5Xz6B68zMRkHa8\nConsulta pública enquadramento bacia do rio das velhas\nEvento lançamento (fase de obras) Programa Conservação da Bacia do Rio Maracujá \nInformações complementares e a confirmação de presença poderão ser realizadas através do telefone (31) 98823-6203 ou pelo endereço eletrônico jeam.alcantara@cbhvelhas.org.br.
URL:https://cbhvelhas.org.br/evento/reuniao-ordinaria-scbh-rio-itabirito-16/
END:VEVENT
END:VCALENDAR