


BEGIN:VCALENDAR
VERSION:2.0
PRODID:-//CBH Rio das Velhas - ECPv5.16.3.1//NONSGML v1.0//EN
CALSCALE:GREGORIAN
METHOD:PUBLISH
X-WR-CALNAME:CBH Rio das Velhas
X-ORIGINAL-URL:https://cbhvelhas.org.br
X-WR-CALDESC:Eventos para CBH Rio das Velhas
BEGIN:VTIMEZONE
TZID:America/Sao_Paulo
BEGIN:STANDARD
TZOFFSETFROM:-0200
TZOFFSETTO:-0300
TZNAME:-03
DTSTART:20180218T020000
END:STANDARD
BEGIN:DAYLIGHT
TZOFFSETFROM:-0300
TZOFFSETTO:-0200
TZNAME:-02
DTSTART:20181104T030000
END:DAYLIGHT
END:VTIMEZONE
BEGIN:VEVENT
DTSTART;TZID=America/Sao_Paulo:20180424T180000
DTEND;TZID=America/Sao_Paulo:20180424T000000
DTSTAMP:20260422T205131
CREATED:20200213T185404Z
LAST-MODIFIED:20200213T185404Z
UID:61213-1524592800-1524528000@cbhvelhas.org.br
SUMMARY:Reunião sobre o Programa Pro – Mananciais acontecerá em Jequitibá
DESCRIPTION:COPASA\, EMATER e a Prefeitura de Jequitibá reúnem-se para discutir o Programa Pro – Mananciais. O objetivo do programa é proteger e recuperar as microbacias hidrográficas e as áreas de recarga dos aquíferos.\nO encontro acontecerá no dia 24/04 (terça – feira)\, às 18h\, na Ilha do Castelinho – Praça José dias Avelar\, s/nº – Jequitibá. \nAs entidades interessadas em participar poderão fazer a indicação dos seus representantes para integrarem o COLMEIA – Coletivo Local de Meio Ambiente.
URL:https://cbhvelhas.org.br/evento/reuniao-sobre-o-programa-pro-mananciais-acontecera-em-jequitiba/
END:VEVENT
END:VCALENDAR