


BEGIN:VCALENDAR
VERSION:2.0
PRODID:-//CBH Rio das Velhas - ECPv5.16.3.1//NONSGML v1.0//EN
CALSCALE:GREGORIAN
METHOD:PUBLISH
X-WR-CALNAME:CBH Rio das Velhas
X-ORIGINAL-URL:https://cbhvelhas.org.br
X-WR-CALDESC:Eventos para CBH Rio das Velhas
BEGIN:VTIMEZONE
TZID:America/Sao_Paulo
BEGIN:STANDARD
TZOFFSETFROM:-0200
TZOFFSETTO:-0300
TZNAME:-03
DTSTART:20180218T020000
END:STANDARD
BEGIN:DAYLIGHT
TZOFFSETFROM:-0300
TZOFFSETTO:-0200
TZNAME:-02
DTSTART:20181104T030000
END:DAYLIGHT
END:VTIMEZONE
BEGIN:VEVENT
DTSTART;TZID=America/Sao_Paulo:20180301T170000
DTEND;TZID=America/Sao_Paulo:20180301T210000
DTSTAMP:20260422T130718
CREATED:20200213T185406Z
LAST-MODIFIED:20200213T185406Z
UID:61245-1519923600-1519938000@cbhvelhas.org.br
SUMMARY:Segunda reunião pública do Programa “Diálogos com o Sisema” acontece em Belo Horizonte (MG)
DESCRIPTION:O encontro acontecerá nessa quinta – feira (01/03)\, às 17h\, no auditório da Semad – Rua: Espírito Santo\, 495\, Centro\, Belo Horizonte. \nVeja o convite:
URL:https://cbhvelhas.org.br/evento/segunda-reuniao-publica-do-programa-dialogos-com-o-sisema-acontece-em-belo-horizonte-mg/
END:VEVENT
END:VCALENDAR