


BEGIN:VCALENDAR
VERSION:2.0
PRODID:-//CBH Rio das Velhas - ECPv5.16.3.1//NONSGML v1.0//EN
CALSCALE:GREGORIAN
METHOD:PUBLISH
X-WR-CALNAME:CBH Rio das Velhas
X-ORIGINAL-URL:https://cbhvelhas.org.br
X-WR-CALDESC:Eventos para CBH Rio das Velhas
BEGIN:VTIMEZONE
TZID:America/Sao_Paulo
BEGIN:STANDARD
TZOFFSETFROM:-0200
TZOFFSETTO:-0300
TZNAME:-03
DTSTART:20180218T020000
END:STANDARD
BEGIN:DAYLIGHT
TZOFFSETFROM:-0300
TZOFFSETTO:-0200
TZNAME:-02
DTSTART:20181104T030000
END:DAYLIGHT
END:VTIMEZONE
BEGIN:VEVENT
DTSTART;TZID=America/Sao_Paulo:20180206T090000
DTEND;TZID=America/Sao_Paulo:20180206T120000
DTSTAMP:20260423T060827
CREATED:20200213T185406Z
LAST-MODIFIED:20200213T185406Z
UID:61256-1517907600-1517918400@cbhvelhas.org.br
SUMMARY:Seminário Inicial de Projeto acontece em Augusto de Lima (MG)
DESCRIPTION:O Comitê da Bacia Hidrográfica do Rio das Velhas (CBH Rio das Velhas) e Subcomitê Rio Curimataí irão realizar Seminário Inicial do Projeto Hidroambiental da UTE Rio Curimataí.\nO evento acontecerá no dia 06 de fevereiro\, às 09h00\, na loja Maçônica\, em Augusto de Lima. \nVeja o convite:\n \n 
URL:https://cbhvelhas.org.br/evento/seminario-inicial-de-projeto-acontece-em-augusto-de-lima-mg/
END:VEVENT
END:VCALENDAR