


BEGIN:VCALENDAR
VERSION:2.0
PRODID:-//CBH Rio das Velhas - ECPv5.16.3.1//NONSGML v1.0//EN
CALSCALE:GREGORIAN
METHOD:PUBLISH
X-WR-CALNAME:CBH Rio das Velhas
X-ORIGINAL-URL:https://cbhvelhas.org.br
X-WR-CALDESC:Eventos para CBH Rio das Velhas
BEGIN:VTIMEZONE
TZID:America/Sao_Paulo
BEGIN:STANDARD
TZOFFSETFROM:-0200
TZOFFSETTO:-0300
TZNAME:-03
DTSTART:20180218T020000
END:STANDARD
BEGIN:DAYLIGHT
TZOFFSETFROM:-0300
TZOFFSETTO:-0200
TZNAME:-02
DTSTART:20181104T030000
END:DAYLIGHT
END:VTIMEZONE
BEGIN:VEVENT
DTSTART;TZID=America/Sao_Paulo:20180206T090000
DTEND;TZID=America/Sao_Paulo:20180206T120000
DTSTAMP:20260423T040835
CREATED:20200213T185407Z
LAST-MODIFIED:20200213T185407Z
UID:61257-1517907600-1517918400@cbhvelhas.org.br
SUMMARY:Seminário Intermediário de Projeto acontece em Ravena\, Sabará (MG)
DESCRIPTION:O Comitê da Bacia Hidrográfica do Rio das Velhas (CBH Rio das Velhas) e Subcomitê Poderoso Vermelho irão realizar Seminário Intermediário do Projeto da UTE Poderoso Vermelho.\nO evento acontecerá no dia 06 de fevereiro\, às 09h30\, na Associação Comunitária Arco Íris\, Ravena\, em Sabará. \nVeja o convite:
URL:https://cbhvelhas.org.br/evento/seminario-intermediario-de-projeto-acontece-em-ravena-sabara-mg/
END:VEVENT
END:VCALENDAR