


BEGIN:VCALENDAR
VERSION:2.0
PRODID:-//CBH Rio das Velhas - ECPv5.16.3.1//NONSGML v1.0//EN
CALSCALE:GREGORIAN
METHOD:PUBLISH
X-WR-CALNAME:CBH Rio das Velhas
X-ORIGINAL-URL:https://cbhvelhas.org.br
X-WR-CALDESC:Eventos para CBH Rio das Velhas
BEGIN:VTIMEZONE
TZID:America/Sao_Paulo
BEGIN:STANDARD
TZOFFSETFROM:-0200
TZOFFSETTO:-0300
TZNAME:-03
DTSTART:20180218T020000
END:STANDARD
BEGIN:DAYLIGHT
TZOFFSETFROM:-0300
TZOFFSETTO:-0200
TZNAME:-02
DTSTART:20181104T030000
END:DAYLIGHT
END:VTIMEZONE
BEGIN:VEVENT
DTSTART;TZID=America/Sao_Paulo:20180405T130000
DTEND;TZID=America/Sao_Paulo:20180405T213000
DTSTAMP:20260421T122943
CREATED:20200213T185406Z
LAST-MODIFIED:20200213T185406Z
UID:61243-1522933200-1522963800@cbhvelhas.org.br
SUMMARY:Simpósio da Bacia Hidrográfica do Ribeirão Onça acontecerá em Belo Horizonte
DESCRIPTION:Com o objetivo de promover a discussão sobre a gestão das águas na bacia hidrográfica do Ribeirão Onça\, no dia 05 de abril acontecerá o Simpósio da Bacia Hidrográfica do Ribeirão Onça\, na Universidade Federal de Minas Gerais (UFMG)\, a partir das 13h.\nA atividade faz parte das atividades do projeto hidroambiental ‘Diagnóstico de Nascentes Urbanas da Bacia Hidrográfica do Ribeirão Onça’. \nConfira a programação:
URL:https://cbhvelhas.org.br/evento/simposio-da-bacia-hidrografica-do-ribeirao-onca-acontecera-em-belo-horizonte/
END:VEVENT
END:VCALENDAR