


BEGIN:VCALENDAR
VERSION:2.0
PRODID:-//CBH Rio das Velhas - ECPv5.16.3.1//NONSGML v1.0//EN
CALSCALE:GREGORIAN
METHOD:PUBLISH
X-WR-CALNAME:CBH Rio das Velhas
X-ORIGINAL-URL:https://cbhvelhas.org.br
X-WR-CALDESC:Eventos para CBH Rio das Velhas
BEGIN:VTIMEZONE
TZID:America/Sao_Paulo
BEGIN:STANDARD
TZOFFSETFROM:-0200
TZOFFSETTO:-0300
TZNAME:-03
DTSTART:20180218T020000
END:STANDARD
BEGIN:DAYLIGHT
TZOFFSETFROM:-0300
TZOFFSETTO:-0200
TZNAME:-02
DTSTART:20181104T030000
END:DAYLIGHT
END:VTIMEZONE
BEGIN:VEVENT
DTSTART;TZID=America/Sao_Paulo:20180327T140000
DTEND;TZID=America/Sao_Paulo:20180327T170000
DTSTAMP:20260421T135041
CREATED:20200213T185405Z
LAST-MODIFIED:20200213T185405Z
UID:61233-1522159200-1522170000@cbhvelhas.org.br
SUMMARY:Subcomitê Águas da Moeda se reúne em Nova Lima
DESCRIPTION:Retorno Equipe de Mobilização CBH Rio das Velhas\, Projetos Hidroambientais e Programa Revitaliza Rio das Velhas estão entre os assuntos que serão discutidos na reunião.\nO encontro acontecerá no dia 27 de março (terça-feira)\, às 14h\, na Faculdade Milton Campos\, localizada na Rua Senador Milton Campos\, 202\, na sala 202 – Vila da Serra. \nConheça a pauta:\n14h00 às 14h15: Boas vindas e certificação de quórum; \n14h15 às 14h45: Informes: \n·Aprovação da Ata; \n·Retorno Equipe de Mobilização CBH Rio das Velhas; \n·Status Projetos Hidroambientais; \n·Programa Revitaliza Rio das Velhas; \n·Levantamento de parceiros – preencha o formulário. \n14h45 às 15h05: Apresentação Programa SIGA Rio das Velhas. Disponível em: http://siga.cbhvelhas.org.br/portal/index.zul \n15h05 às 15h20: Apresentação (re)conhecendo as Águas da Moeda; \n15h20 às 16h00: Apresentação e discussão sobre barragens de rejeitos da Minérios Nacional S/A situada em Rio Acima (a confirmar). Documento em anexo: Ação Civil Pública contra a Minérios Nacional S/A. \n16h00 às 16h30: Encaminhamentos finais. \nInformações complementares e a confirmação de presença poderão ser realizadas por meio do telefone (31) 3222-8350 ou endereço eletrônico adriana.carvalho@cbhvelhas.org.br.  É IMPRESCINDÍVEL A CONFIRMAÇÃO DE PRESENÇA.
URL:https://cbhvelhas.org.br/evento/subcomite-aguas-da-moeda-se-reune-em-nova-lima-6/
END:VEVENT
END:VCALENDAR