


BEGIN:VCALENDAR
VERSION:2.0
PRODID:-//CBH Rio das Velhas - ECPv5.16.3.1//NONSGML v1.0//EN
CALSCALE:GREGORIAN
METHOD:PUBLISH
X-WR-CALNAME:CBH Rio das Velhas
X-ORIGINAL-URL:https://cbhvelhas.org.br
X-WR-CALDESC:Eventos para CBH Rio das Velhas
BEGIN:VTIMEZONE
TZID:America/Sao_Paulo
BEGIN:STANDARD
TZOFFSETFROM:-0200
TZOFFSETTO:-0300
TZNAME:-03
DTSTART:20160221T020000
END:STANDARD
BEGIN:DAYLIGHT
TZOFFSETFROM:-0300
TZOFFSETTO:-0200
TZNAME:-02
DTSTART:20161016T030000
END:DAYLIGHT
END:VTIMEZONE
BEGIN:VEVENT
DTSTART;TZID=America/Sao_Paulo:20161025T140000
DTEND;TZID=America/Sao_Paulo:20161025T170000
DTSTAMP:20260422T150556
CREATED:20200213T185520Z
LAST-MODIFIED:20200213T185520Z
UID:61306-1477404000-1477414800@cbhvelhas.org.br
SUMMARY:Subcomitê Águas da Moeda se reúne em Nova Lima (MG)
DESCRIPTION:Elaboração do Termo de Referência do Projeto Hidroambiental “Por Aqui Passa um Rio” e cadastramento das Nascentes e Ações Comunicativas para Expansão da Estação Ecológica de Fechos estão entre os assuntos que serão discutidos na reunião.\nA reunião acontecerá no dia 25 de Outubro (terça-feira)\, às 14 horas\, na Faculdade Milton Campos\, localizada na Rua Senador Milton Campos\, 202 – Vila da Serra. \nConheça a pauta:\n14h00 às 14h10: Aprovação da ata 27/09\n14h10 às 14h40: Informes Gerais:\n– Empreendimento CSul;\n– Ocupação Água Limpa.\n14h40 às 15h40: Elaboração do Termo de Referência do Projeto Hidroambiental “Por Aqui Passa um Rio”.\n15h40 às 16h40: Elaboração do Termo de Referência do Projeto Hidroambiental referente à demanda de Cadastramento das Nascentes e Ações Comunicativas para Expansão da Estação Ecológica de Fechos. \nInformações complementares e a confirmação de sua presença poderão ser realizadas por meio do telefone (31) 3222-8350 ou endereço eletrônico guilherme.peron@cbhvelhas.org.br.
URL:https://cbhvelhas.org.br/evento/subcomite-aguas-da-moeda-se-reune-em-nova-lima-mg-4/
END:VEVENT
END:VCALENDAR