


BEGIN:VCALENDAR
VERSION:2.0
PRODID:-//CBH Rio das Velhas - ECPv5.16.3.1//NONSGML v1.0//EN
CALSCALE:GREGORIAN
METHOD:PUBLISH
X-WR-CALNAME:CBH Rio das Velhas
X-ORIGINAL-URL:https://cbhvelhas.org.br
X-WR-CALDESC:Eventos para CBH Rio das Velhas
BEGIN:VTIMEZONE
TZID:America/Sao_Paulo
BEGIN:STANDARD
TZOFFSETFROM:-0200
TZOFFSETTO:-0300
TZNAME:-03
DTSTART:20180218T020000
END:STANDARD
BEGIN:DAYLIGHT
TZOFFSETFROM:-0300
TZOFFSETTO:-0200
TZNAME:-02
DTSTART:20181104T030000
END:DAYLIGHT
END:VTIMEZONE
BEGIN:VEVENT
DTSTART;TZID=America/Sao_Paulo:20180424T140000
DTEND;TZID=America/Sao_Paulo:20180425T170000
DTSTAMP:20260422T170251
CREATED:20200213T185403Z
LAST-MODIFIED:20200213T185403Z
UID:61210-1524578400-1524675600@cbhvelhas.org.br
SUMMARY:Subcomitê Águas da Moeda se reúne em Rio Acima
DESCRIPTION:Apresentação da situação das barragens do Complexo Minerário Fernandinho da empresa Minérios Nacional é um dos assuntos que será discutido na reunião.\nO encontro acontecerá no dia 24 de abril (terça-feira)\, às 14h\, na Secretaria Municipal de Educação de Rio Acima\, localizada na Rua Afonso Pena\, 333 – Centro\, Rio Acima. \nConheça a Pauta: \n1. 14h00 às 17h00: Apresentação da situação das barragens B2 e B2 Auxiliar (Complexo Minerário Fernandinho – Minérios Nacional S.A.) por representantes de entidades envolvidas no caso.\nConvidados:\n– Karine Dias da Silva Prata Marques – Gerência de Resíduos\, Sólidos Industriais e Mineração da Fundação Estadual do Meio Ambiente\n– Alder Marcelo de Souza – Núcleo de Gestão de Barragens da Fundação Estadual do Meio Ambiente\n– Joaquim Alvarenga de Oliveira Júnior – Gerente Geral do Complexo Minerário Fernandinho da Minérios Nacional S.A.\n– Wagner Nascimento – Coordenador de Fiscalização de Barragens do Departamento Nacional de Produção Mineral (a confirmar)\n– Dra. Cláudia de Oliveira Ignez – Promotora de Justiça e Curadora do Meio Ambiente na Comarca de Nova Lima/MG (a confirmar) \nInformações complementares e a confirmação de presença poderão ser realizadas pelo telefone (31)3222-8350 ou endereço eletrônico adriana.carvalho@cbhvelhas.org.br. \nInformações sobre o SCBH Águas da Moeda: https://cbhvelhas.org.br/aguasdamoeda/
URL:https://cbhvelhas.org.br/evento/subcomite-aguas-da-moeda-se-reune-em-rio-acima/
END:VEVENT
END:VCALENDAR