


BEGIN:VCALENDAR
VERSION:2.0
PRODID:-//CBH Rio das Velhas - ECPv5.16.3.1//NONSGML v1.0//EN
CALSCALE:GREGORIAN
METHOD:PUBLISH
X-WR-CALNAME:CBH Rio das Velhas
X-ORIGINAL-URL:https://cbhvelhas.org.br
X-WR-CALDESC:Eventos para CBH Rio das Velhas
BEGIN:VTIMEZONE
TZID:America/Sao_Paulo
BEGIN:STANDARD
TZOFFSETFROM:-0200
TZOFFSETTO:-0300
TZNAME:-03
DTSTART:20160221T020000
END:STANDARD
BEGIN:DAYLIGHT
TZOFFSETFROM:-0300
TZOFFSETTO:-0200
TZNAME:-02
DTSTART:20161016T030000
END:DAYLIGHT
END:VTIMEZONE
BEGIN:VEVENT
DTSTART;TZID=America/Sao_Paulo:20161103T090000
DTEND;TZID=America/Sao_Paulo:20161103T120000
DTSTAMP:20260420T080519
CREATED:20200213T185520Z
LAST-MODIFIED:20200213T185520Z
UID:61300-1478163600-1478174400@cbhvelhas.org.br
SUMMARY:Subcomitê Águas do Gandarela se reúne em Raposos (MG)
DESCRIPTION:Encontro de Coordenadores com a Presidência do CBH Rio das Velhas\, II Seminário Alto Rio das Velhas e manifestação ALMG proposta de lei de iniciativa popular (Mar de Lama Nunca Mais) estão entre os assuntos que serão discutidos na reunião.\nO encontro acontecerá no dia 03 de novembro de 2016 (quinta-feira)\, na Casa de Gentil\, localizada na Rua Sergipe\, nº 689 – Várzea do Sítio – Raposos / Minas Gerais\, com início às 09h. \nConheça a pauta:\n09h00 às 09h15 – Recepção dos(as) Conselheiros(as) e Convidados(as)/Café;\n09h15 às 09h30 – Discussão e aprovação do registro de reunião: 06/10/2016;\n09h30 às 10h30 – Informes:\n. Encontro de Coordenadores com a Presidência do CBH Rio das Velhas;\n. Retorno COPASA sobre as demandas da reunião ordinária de setembro;\n. Resultados do II Seminário Alto Rio das Velhas: Segurança Hídrica;\n. Manifestação ALMG proposta de lei de iniciativa popular (Mar de Lama Nunca Mais) dia 04 de novembro;\n. Aprovação moção para APA Sul fracionamento irregular de solo em área rural;\n. Retomada da intervenção no canal fluvial do Rio das Velhas em Raposos; \n10h30 às11h30 – Segurança de Barragens: panorama técnico (Apresentação: Glauco Gonçalves Dias); \n11h30 às 12h00 – Discussões\, encaminhamentos\, outros. \nQuaisquer informações complementares e a confirmação de sua presença ou representante poderão ser realizadas através do telefone (31) 3222 8350 ou por meio do endereço eletrônico jeam.alcantara@cbhvelhas.org.br ou euclides.dayvid@cbhvelhas.org.br
URL:https://cbhvelhas.org.br/evento/subcomite-aguas-do-gandarela-se-reune-em-raposos-mg-3/
END:VEVENT
END:VCALENDAR