


BEGIN:VCALENDAR
VERSION:2.0
PRODID:-//CBH Rio das Velhas - ECPv5.16.3.1//NONSGML v1.0//EN
CALSCALE:GREGORIAN
METHOD:PUBLISH
X-WR-CALNAME:CBH Rio das Velhas
X-ORIGINAL-URL:https://cbhvelhas.org.br
X-WR-CALDESC:Eventos para CBH Rio das Velhas
BEGIN:VTIMEZONE
TZID:America/Sao_Paulo
BEGIN:STANDARD
TZOFFSETFROM:-0200
TZOFFSETTO:-0300
TZNAME:-03
DTSTART:20180218T020000
END:STANDARD
BEGIN:DAYLIGHT
TZOFFSETFROM:-0300
TZOFFSETTO:-0200
TZNAME:-02
DTSTART:20181104T030000
END:DAYLIGHT
END:VTIMEZONE
BEGIN:VEVENT
DTSTART;TZID=America/Sao_Paulo:20180412T130000
DTEND;TZID=America/Sao_Paulo:20180412T160000
DTSTAMP:20260421T213336
CREATED:20200213T185404Z
LAST-MODIFIED:20200213T185404Z
UID:61225-1523538000-1523548800@cbhvelhas.org.br
SUMMARY:Subcomitê Guaicuí se reúne na Barra do Guaicuí
DESCRIPTION:Plano Municipal de Saneamento de Lassance\, entrega do projeto hidroambiental de Barraginhas e Projeto Viveiro de Porteiras estão entre os assuntos que serão discutidos na reunião.\nO encontro acontecerá no dia 12 de abril de 2018 (quinta-feira)\, no Conselho de Desenvolvimento da Barra do Guaicuí – CONDEBAG\, em Barra do Guaicuí\, com início às 13h00. \nConheça a pauta:\n1. Informes:\n– Retorno da equipe de mobilização CBH Rio das Velhas / Élio Domingos\n– Plano Municipal de Saneamento de Lassance\n2. Entrega do Projeto Hidroambiental de Barraginhas / Jacqueson Azevedo;\n3. Projeto Viveiro de Porteiras\, possibilidade de parceria com CEMIG;\n4. Seminário Revitaliza Rio das Velhas em Várzea da Palma\, em Maio/2018; \nQuaisquer informações complementares e a confirmação de sua presença ou representante poderão ser realizadas através do telefone (31) 3222-8350 ou por meio dos endereço eletrônico elio.domingos@cbhvelhas.org.br.
URL:https://cbhvelhas.org.br/evento/subcomite-guaicui-se-reune-na-barra-do-guaicui/
END:VEVENT
END:VCALENDAR