


BEGIN:VCALENDAR
VERSION:2.0
PRODID:-//CBH Rio das Velhas - ECPv5.16.3.1//NONSGML v1.0//EN
CALSCALE:GREGORIAN
METHOD:PUBLISH
X-WR-CALNAME:CBH Rio das Velhas
X-ORIGINAL-URL:https://cbhvelhas.org.br
X-WR-CALDESC:Eventos para CBH Rio das Velhas
BEGIN:VTIMEZONE
TZID:America/Sao_Paulo
BEGIN:STANDARD
TZOFFSETFROM:-0200
TZOFFSETTO:-0300
TZNAME:-03
DTSTART:20180218T020000
END:STANDARD
BEGIN:DAYLIGHT
TZOFFSETFROM:-0300
TZOFFSETTO:-0200
TZNAME:-02
DTSTART:20181104T030000
END:DAYLIGHT
END:VTIMEZONE
BEGIN:VEVENT
DTSTART;TZID=America/Sao_Paulo:20180406T090000
DTEND;TZID=America/Sao_Paulo:20180406T120000
DTSTAMP:20260421T143413
CREATED:20200213T185405Z
LAST-MODIFIED:20200213T185405Z
UID:61229-1523005200-1523016000@cbhvelhas.org.br
SUMMARY:Subcomitê Nascentes se reúne em Ouro Preto
DESCRIPTION:Projeto Hidroambiental ‘Recuperação de Quatro Microbacias inseridas na APA das Andorinhas’ e Programa Pró Mananciais da COPASA na UTE Nascentes estão entre os assuntos que serão discutidos na reunião.\nO encontro acontecerá no dia 06 de abril de 2018 (sexta-feira)\, na Fundação Gorceix (Auditório Israel Pinheiro)\, localizada na Rua Carlos Walter Marinho Campos\, n° 57\, Vila Itacolomy – Ouro Preto/ Minas Gerais\, com início às 09h. \nConheça a pauta:\n09h00 às 09h15 – Recepção dos(as) Conselheiros(as) e Convidados(as)/Café;\n09h30 às 10h00 – Informes:\n– Retomada das atividades Equipe de Mobilização CBH Rio das Velhas (Apresentação do Plano de Trabalho);\n– Retorno das discussões da 99ª Reunião Plenária do CBH Rio das Velhas;\n– Tratativas com o Secretário de Meio Ambiente e Desenvolvimento Sustentável sobre a Floresta Estadual do Uaimii e APA da Cachoeira das Andorinhas e despacho do seu gabinete para reunião com o Diretor Geral do IEF;\n– Informes gerais e atualização de pendências/demandas SCBH Nascentes;\n10h00 às 10h45 – Discussão sobre o andamento do projeto hidroambiental: recuperação de quatro microbacias inseridas na APA das Andorinhas e Bacia Hidrográfica do Rio das Velhas;\n10h45 às 11h45 – Debate sobre as ações do Programa Pró Mananciais da COPASA na UTE Nascentes: possibilidades e definições;\n11h45 às 12h00 – Discussões\, encaminhamentos\, outros. \nQuaisquer informações complementares e a confirmação de sua presença ou representante poderão ser realizadas através do telefone (31) 3222 8350 ou por meio do endereço eletrônico jeam.alcantara@cbhvelhas.org.br .
URL:https://cbhvelhas.org.br/evento/subcomite-nascentes-se-reune-em-ouro-preto-8/
END:VEVENT
END:VCALENDAR