


BEGIN:VCALENDAR
VERSION:2.0
PRODID:-//CBH Rio das Velhas - ECPv5.16.3.1//NONSGML v1.0//EN
CALSCALE:GREGORIAN
METHOD:PUBLISH
X-WR-CALNAME:CBH Rio das Velhas
X-ORIGINAL-URL:https://cbhvelhas.org.br
X-WR-CALDESC:Eventos para CBH Rio das Velhas
BEGIN:VTIMEZONE
TZID:America/Sao_Paulo
BEGIN:STANDARD
TZOFFSETFROM:-0200
TZOFFSETTO:-0300
TZNAME:-03
DTSTART:20160221T020000
END:STANDARD
BEGIN:DAYLIGHT
TZOFFSETFROM:-0300
TZOFFSETTO:-0200
TZNAME:-02
DTSTART:20161016T030000
END:DAYLIGHT
END:VTIMEZONE
BEGIN:VEVENT
DTSTART;TZID=America/Sao_Paulo:20161219T090000
DTEND;TZID=America/Sao_Paulo:20161219T120000
DTSTAMP:20260423T194410
CREATED:20200213T185518Z
LAST-MODIFIED:20200213T185518Z
UID:61264-1482138000-1482148800@cbhvelhas.org.br
SUMMARY:Subcomitê Poderoso Vermelho se reúne em Ravena (MG)
DESCRIPTION:Zoneamento Ambiental Produtivo na bacia do Ribeirão Vermelho e apresentação sobre a situação dos mananciais de abastecimento público de Ravena estão entre os assuntos que serão discutidos na reunião.\nO encontro acontecerá no dia 19 de dezembro (segunda – feira) de 2016 às 09h00\, no sítio do Mateus. Encontro na praça principal de Ravena\, em frente à Igreja Matriz Nossa Senhora da Assunção – Distrito de Ravena – Sabará/MG às 08h30. \nConheça a pauta:\n1. Aprovação da ata da reunião de 17/08/16 e encaminhamentos desta reunião;\n2. Informes:\n– Recepção do novo conselheiro\, Daniel Árabe representando o empreendimento Trilhas da Serra;\n– Ofício enviado pelo CBH Rio das Velhas à EMATER para realização do ZAP – Zoneamento Ambiental Produtivo na bacia do Ribeirão Vermelho;\n3. Apresentação sobre a situação dos mananciais de abastecimento público de Ravena – Conselheiro Vicente Rodrigues/COPASA; \nQuaisquer informações complementares e a confirmação de sua presença ou representante poderão ser realizadas através do telefone (31) 3222-8350 ou por meio dos endereços eletrônicos elio.domingos@cbhvelhas.org.br e diogo.carvalho@cbhvelhas.org.br.
URL:https://cbhvelhas.org.br/evento/subcomite-poderoso-vermelho-se-reune-em-ravena-mg/
END:VEVENT
END:VCALENDAR