


BEGIN:VCALENDAR
VERSION:2.0
PRODID:-//CBH Rio das Velhas - ECPv5.16.3.1//NONSGML v1.0//EN
CALSCALE:GREGORIAN
METHOD:PUBLISH
X-WR-CALNAME:CBH Rio das Velhas
X-ORIGINAL-URL:https://cbhvelhas.org.br
X-WR-CALDESC:Eventos para CBH Rio das Velhas
BEGIN:VTIMEZONE
TZID:America/Sao_Paulo
BEGIN:STANDARD
TZOFFSETFROM:-0200
TZOFFSETTO:-0300
TZNAME:-03
DTSTART:20180218T020000
END:STANDARD
BEGIN:DAYLIGHT
TZOFFSETFROM:-0300
TZOFFSETTO:-0200
TZNAME:-02
DTSTART:20181104T030000
END:DAYLIGHT
END:VTIMEZONE
BEGIN:VEVENT
DTSTART;TZID=America/Sao_Paulo:20180502T083000
DTEND;TZID=America/Sao_Paulo:20180502T000000
DTSTAMP:20260423T055000
CREATED:20200213T185403Z
LAST-MODIFIED:20200213T185403Z
UID:61206-1525249800-1525219200@cbhvelhas.org.br
SUMMARY:Subcomitê Ribeirão Arrudas irá realizar visita técnica na mineração da Serra do Curral (Mineração Taquaril)
DESCRIPTION:A visita acontecerá no dia 02 de maio de 2018 (quarta-feira)\, saindo às 8h30 da sede do CBH Rio das Velhas\, localizada na Rua dos Carijós\, n° 150 – 10° andar – Centro\, Belo Horizonte/ MG.\nA confirmação deverá ser feita através do formulário\, CLIQUE AQUI \nQuaisquer informações complementares e a confirmação de sua presença ou representante poderão ser realizadas por meio do telefone (31) 3222-8350 / 9.9817-2239 ou do endereço eletrônico luciana.gomes@cbhvelhas.org.br \nInformações sobre o SCBH Ribeirão Arrudas\, acesse: https://cbhvelhas.org.br/arrudas/
URL:https://cbhvelhas.org.br/evento/subcomite-ribeirao-arrudas-ira-realizar-visita-tecnica-na-mineracao-da-serra-do-curral-mineracao-taquaril/
END:VEVENT
END:VCALENDAR