


BEGIN:VCALENDAR
VERSION:2.0
PRODID:-//CBH Rio das Velhas - ECPv5.16.3.1//NONSGML v1.0//EN
CALSCALE:GREGORIAN
METHOD:PUBLISH
X-WR-CALNAME:CBH Rio das Velhas
X-ORIGINAL-URL:https://cbhvelhas.org.br
X-WR-CALDESC:Eventos para CBH Rio das Velhas
BEGIN:VTIMEZONE
TZID:America/Sao_Paulo
BEGIN:STANDARD
TZOFFSETFROM:-0200
TZOFFSETTO:-0300
TZNAME:-03
DTSTART:20160221T020000
END:STANDARD
BEGIN:DAYLIGHT
TZOFFSETFROM:-0300
TZOFFSETTO:-0200
TZNAME:-02
DTSTART:20161016T030000
END:DAYLIGHT
END:VTIMEZONE
BEGIN:VEVENT
DTSTART;TZID=America/Sao_Paulo:20161215T140000
DTEND;TZID=America/Sao_Paulo:20161215T180000
DTSTAMP:20260423T234146
CREATED:20200213T185518Z
LAST-MODIFIED:20200213T185518Z
UID:61270-1481810400-1481824800@cbhvelhas.org.br
SUMMARY:Subcomitê Ribeirão Arrudas se reúne em Belo Horizonte
DESCRIPTION:Visita às nascentes\, análise de Vulnerabilidade às mudanças climáticas no município de Belo Horizonte e definição de focos para a gestão de 2017 estão entre os assuntos que serão discutidos na reunião.\nO encontro acontece no dia 15 de dezembro de 2016 (quinta-feira)\, às 14 horas\, na sede do CBH Rio das Velhas\, localizada na Rua dos Carijós\, n° 150 – 10° andar – Centro\, Belo Horizonte/ MG. \nConheça a pauta:\n14h00 às 14h20: Aprovação da ata da reunião realizada no dia 17/11.\n14h20 às 14h40: Informes\n– Visita às nascentes – região do Barreiro\, Rua dos Planetoides – Bairro Santa Lúcia\, Bairro Jardim América;\n– Reunião de coordenadores dos Subcomitês do CBH Rio das Velhas;\n– Análise de Vulnerabilidade às mudanças climáticas no município de Belo Horizonte.\n14h40 às 15h00: Fomento formativo – Trama Verde-Azul e o macrozoneamento metropolitano – interfaces com os cursos d’água urbanos e o Ribeirão Arrudas.\n15h00 às 15h20: Recuperação de Fundo de Vale na bacia do Ribeirão Arrudas – Parque Granja de Freitas/Bairro Vera Cruz.\n15h20 às 16h50: Análise e avaliação do termo de referência para a Recuperação de Nascentes Urbanas – Apresentação COBRAPE e leitura coletiva do TDR pelo Subcomitê.\n16h50 às 17h50: Definição de focos para a gestão de 2017 e avaliação de 2016 \nEste ano o SCBH Ribeirão Arrudas iniciou mais uma nova gestão\, sempre comprometida com a as águas. Os desafios são grandes e cada minuto de atenção dos participantes foi valioso para a intensa rotina desse Subcomitê. Esta será a última reunião do ano\, portanto uma boa oportunidade de confraternizar e descontrair após as 18h.
URL:https://cbhvelhas.org.br/evento/subcomite-ribeirao-arrudas-se-reune-em-belo-horizonte-3/
END:VEVENT
END:VCALENDAR