


BEGIN:VCALENDAR
VERSION:2.0
PRODID:-//CBH Rio das Velhas - ECPv5.16.3.1//NONSGML v1.0//EN
CALSCALE:GREGORIAN
METHOD:PUBLISH
X-WR-CALNAME:CBH Rio das Velhas
X-ORIGINAL-URL:https://cbhvelhas.org.br
X-WR-CALDESC:Eventos para CBH Rio das Velhas
BEGIN:VTIMEZONE
TZID:America/Sao_Paulo
BEGIN:STANDARD
TZOFFSETFROM:-0200
TZOFFSETTO:-0300
TZNAME:-03
DTSTART:20180218T020000
END:STANDARD
BEGIN:DAYLIGHT
TZOFFSETFROM:-0300
TZOFFSETTO:-0200
TZNAME:-02
DTSTART:20181104T030000
END:DAYLIGHT
END:VTIMEZONE
BEGIN:VEVENT
DTSTART;TZID=America/Sao_Paulo:20180315T140000
DTEND;TZID=America/Sao_Paulo:20180315T170000
DTSTAMP:20260422T043338
CREATED:20200213T185406Z
LAST-MODIFIED:20200213T185406Z
UID:61242-1521122400-1521133200@cbhvelhas.org.br
SUMMARY:Subcomitê Ribeirão Arrudas se reúne na sede do Comitê
DESCRIPTION:Projeto de Nascentes Urbanas\, manifestação sobre os projetos de drenagem em Belo Horizonte e Parque dona Valdete Cordeiro são os assuntos que serão discutidos na reunião.\nO encontro acontecerá no dia 15 de março de 2018 (quinta-feira)\, às 14 horas\, na sede do CBH Rio das Velhas\, localizada na Rua dos Carijós\, n° 150 – 10° andar – Centro\, Belo Horizonte/ MG. \nConheça a pauta:\n• Projeto de Nascentes Urbanas\n• Manifestação sobre os projetos de drenagem em Belo Horizonte\n• Parque dona Valdete Cordeiro \nQuaisquer informações complementares e a confirmação de sua presença ou de representante poderão ser realizadas por meio eletrônico rslemosbh@gmail.com. Não teremos ligação por telefone\, então é importante que façam a confirmação por e-mail.
URL:https://cbhvelhas.org.br/evento/subcomite-ribeirao-arrudas-se-reune-na-sede-do-comite-5/
END:VEVENT
END:VCALENDAR