


BEGIN:VCALENDAR
VERSION:2.0
PRODID:-//CBH Rio das Velhas - ECPv5.16.3.1//NONSGML v1.0//EN
CALSCALE:GREGORIAN
METHOD:PUBLISH
X-WR-CALNAME:CBH Rio das Velhas
X-ORIGINAL-URL:https://cbhvelhas.org.br
X-WR-CALDESC:Eventos para CBH Rio das Velhas
BEGIN:VTIMEZONE
TZID:America/Sao_Paulo
BEGIN:STANDARD
TZOFFSETFROM:-0200
TZOFFSETTO:-0300
TZNAME:-03
DTSTART:20160221T020000
END:STANDARD
BEGIN:DAYLIGHT
TZOFFSETFROM:-0300
TZOFFSETTO:-0200
TZNAME:-02
DTSTART:20161016T030000
END:DAYLIGHT
END:VTIMEZONE
BEGIN:VEVENT
DTSTART;TZID=America/Sao_Paulo:20161116T090000
DTEND;TZID=America/Sao_Paulo:20161116T120000
DTSTAMP:20260422T090853
CREATED:20200213T185519Z
LAST-MODIFIED:20200213T185519Z
UID:61291-1479286800-1479297600@cbhvelhas.org.br
SUMMARY:Subcomitê Ribeirão Caeté/Sabará se reúne em Caeté (MG)
DESCRIPTION:Licenciamentos e obras em Sabará\, projeto de abastecimento público em Morro Vermelho e processo de outorga nº 28.859/2013 da AngloGold estão entre os assuntos que serão discutidos na reunião.\nO encontro acontece no dia 16 de novembro (quarta-feira)\, às 09h\, no Anexo Administrativo da Prefeitura de Caeté\, localizado à Av. Jair Dantas\, Nº 216\, bairro José Brandão\, Município de Caeté/MG. \nConheça a pauta:\n1. Aprovação da ata da reunião ordinária de 14/09/2016 e discussão dos encaminhamentos;\n2. Informes;\n3. Licenciamentos e obras em Sabará que influenciam cursos d’água – Conselheiro Jéferson Paes;\n4. Retorno sobre Projeto de abastecimento público em Morro Vermelho – Coordenador Geral Ademir Bento\n5. Retorno sobre processo de outorga nº 28.859/2013 da AngloGold aprovado em Plenário pelo CBH Velhas em 21/10/16 – Coordenador Geral Ademir Bento;\n6. Iniciação à oficina de Planejamento do Subcomitê com base no Plano Diretor da Bacia – Equipe de Mobilização; \nQuaisquer informações complementares e a confirmação de sua presença ou representante poderão ser feitas através do telefone (31) 3222-8350 ou por meio dos endereços eletrônicos elio.domingos@cbhvelhas.org.br e diogo.carvalho@cbhvelhas.org.br.
URL:https://cbhvelhas.org.br/evento/subcomite-ribeirao-caete-sabara-se-reune-em-caete-mg-2/
END:VEVENT
END:VCALENDAR