


BEGIN:VCALENDAR
VERSION:2.0
PRODID:-//CBH Rio das Velhas - ECPv5.16.3.1//NONSGML v1.0//EN
CALSCALE:GREGORIAN
METHOD:PUBLISH
X-WR-CALNAME:CBH Rio das Velhas
X-ORIGINAL-URL:https://cbhvelhas.org.br
X-WR-CALDESC:Eventos para CBH Rio das Velhas
BEGIN:VTIMEZONE
TZID:America/Sao_Paulo
BEGIN:STANDARD
TZOFFSETFROM:-0200
TZOFFSETTO:-0300
TZNAME:-03
DTSTART:20180218T020000
END:STANDARD
BEGIN:DAYLIGHT
TZOFFSETFROM:-0300
TZOFFSETTO:-0200
TZNAME:-02
DTSTART:20181104T030000
END:DAYLIGHT
END:VTIMEZONE
BEGIN:VEVENT
DTSTART;TZID=America/Sao_Paulo:20180425T133000
DTEND;TZID=America/Sao_Paulo:20180426T163000
DTSTAMP:20260422T224257
CREATED:20200213T185404Z
LAST-MODIFIED:20200213T185404Z
UID:61214-1524663000-1524760200@cbhvelhas.org.br
SUMMARY:Subcomitê Ribeirão da Mata se reúne em Pedro Leopoldo
DESCRIPTION:Entrega dos projetos de saneamentos aos municípios da UTE Ribeirão da Mata\, Programa “Revitaliza Rio das Velhas” e investimento da COPASA na UTE Ribeirão da Mata e Carste estão entre os assuntos que serão discutidos na reunião.\nO encontro acontecerá no dia 25 de abril de 2018 (quarta feira)\, às 13h30min\, no Auditório da Prefeitura de Pedro Leopoldo\, localizado Rua Cristiano Otoni\, Nº 555\, município de Pedro Leopoldo. \nConheça a pauta: \n13:30hs/13:45hs – Recepção de Conselheiros e Convidados.\n13:45hs/14:00hs – Abertura da reunião.\n– Coordenador do SCBH Ribeirão da Mata – Filipe Munhoz\n– Aprovação da ata 74ª reunião ordinária realizada no dia 30/08/2017\n14:00hs/14:30hs – Informes:\n– Parecer da perita na Lagoa Santo Antônio.\n– Retorno da Equipe de mobilização\n– Entrega dos projetos de saneamentos aos municípios da UTE Ribeirão da Mata.\n14:30hs/15:00hs – Programa “Revitaliza Rio das Velhas” investimento da COPASA na UTE Ribeirão da Mata e Carste. Apresentação Copasa.\n15:00hs/16:00hs – Apresentação do Estudo das Aguas Subterrâneas da Região da Apa Carste Lagoa Santa – Prof. Leila Nunes Menegasse.\n16:00h/16:30h – Palavra aberta. Perguntas\nEncaminhamentos e encerramento. \nQuaisquer informações complementares e a confirmação de sua presença ou representante poderão ser feitas através do telefone (31) 32228350 ou através email derza.nogueira@cbhvelhas.org.br.
URL:https://cbhvelhas.org.br/evento/subcomite-ribeirao-da-mata-se-reune-em-pedro-leopoldo-8/
END:VEVENT
END:VCALENDAR