


BEGIN:VCALENDAR
VERSION:2.0
PRODID:-//CBH Rio das Velhas - ECPv5.16.3.1//NONSGML v1.0//EN
CALSCALE:GREGORIAN
METHOD:PUBLISH
X-WR-CALNAME:CBH Rio das Velhas
X-ORIGINAL-URL:https://cbhvelhas.org.br
X-WR-CALDESC:Eventos para CBH Rio das Velhas
BEGIN:VTIMEZONE
TZID:America/Sao_Paulo
BEGIN:STANDARD
TZOFFSETFROM:-0200
TZOFFSETTO:-0300
TZNAME:-03
DTSTART:20180218T020000
END:STANDARD
BEGIN:DAYLIGHT
TZOFFSETFROM:-0300
TZOFFSETTO:-0200
TZNAME:-02
DTSTART:20181104T030000
END:DAYLIGHT
END:VTIMEZONE
BEGIN:VEVENT
DTSTART;TZID=America/Sao_Paulo:20180308T083000
DTEND;TZID=America/Sao_Paulo:20180308T120000
DTSTAMP:20260422T062724
CREATED:20200213T185406Z
LAST-MODIFIED:20200213T185406Z
UID:61244-1520497800-1520510400@cbhvelhas.org.br
SUMMARY:Subcomitê Ribeirão Jequitibá se reúne em Sete Lagoas (MG)
DESCRIPTION:Alinhamento de ações de caráter ambiental na bacia e criação de uma agenda comum do Subcomitê são os assuntos que serão tratados no encontro.\nA Reunião Extraordinária acontecerá no dia 08 de março de 2018 (terça-feira)\, às 08h30\, na Superintendência Regional de Saúde\, localizada à Av. Deputado Renato Azeredo\, 843 – Centro – Sete Lagoas. \nConheça a pauta:\n\nAlinhamento de ações de caráter ambiental na bacia e criação de uma agenda comum do Subcomitê.
URL:https://cbhvelhas.org.br/evento/subcomite-ribeirao-jequitiba-se-reune-em-sete-lagoas-mg-3/
END:VEVENT
END:VCALENDAR