


BEGIN:VCALENDAR
VERSION:2.0
PRODID:-//CBH Rio das Velhas - ECPv5.16.3.1//NONSGML v1.0//EN
CALSCALE:GREGORIAN
METHOD:PUBLISH
X-WR-CALNAME:CBH Rio das Velhas
X-ORIGINAL-URL:https://cbhvelhas.org.br
X-WR-CALDESC:Eventos para CBH Rio das Velhas
BEGIN:VTIMEZONE
TZID:America/Sao_Paulo
BEGIN:STANDARD
TZOFFSETFROM:-0200
TZOFFSETTO:-0300
TZNAME:-03
DTSTART:20180218T020000
END:STANDARD
BEGIN:DAYLIGHT
TZOFFSETFROM:-0300
TZOFFSETTO:-0200
TZNAME:-02
DTSTART:20181104T030000
END:DAYLIGHT
END:VTIMEZONE
BEGIN:VEVENT
DTSTART;TZID=America/Sao_Paulo:20180227T090000
DTEND;TZID=America/Sao_Paulo:20180227T120000
DTSTAMP:20260422T164555
CREATED:20200213T185406Z
LAST-MODIFIED:20200213T185406Z
UID:61248-1519722000-1519732800@cbhvelhas.org.br
SUMMARY:Subcomitê Ribeirão Jequitibá se reúne em Sete Lagoas (MG)
DESCRIPTION:Levantamento das entidades com ações e eventos de cunho ambiental previsto para o ano de 2018\, visita técnica a área de implantação da ETE Matadouro e campanha de recolhimento de embalagens de agrotóxico na bacia do Ribeirão Jequitibá são assuntos que serão discutidos na reunião.\nO encontro acontece no dia 27 de fevereiro de 2018 (terça – feira)\, às 09h00\, na Coordenação de Pesquisa e Extensão (COPPEX) do UNIFEMM\, localizada na Av. Marechal Castelo Branco\, 2765 – Santo Antônio\, Sete Lagoas. \nConheça a Pauta:\n1. Recepção e credenciamento dos conselheiros\n2. Exercício de Integração dos membros do Subcomitê Ribeirão Jequitibá\n3. Leitura/Aprovação da ata da reunião ordinária de 30/01/2018.\n4. Levantamento das entidades com ações e eventos de cunho ambiental previsto para o ano de 2018.\n5. Informes:\n• Recepção de novos Conselheiros\n• Visita técnica a área de implantação da ETE Matadouro.\n• Divulgação da campanha de recolhimento de embalagens de agrotóxico na bacia do Jequitibá.\n• Encaminhamento de oficio ao SAAE
URL:https://cbhvelhas.org.br/evento/subcomite-ribeirao-jequitiba-se-reune-em-sete-lagoas-mg-4/
END:VEVENT
END:VCALENDAR