


BEGIN:VCALENDAR
VERSION:2.0
PRODID:-//CBH Rio das Velhas - ECPv5.16.3.1//NONSGML v1.0//EN
CALSCALE:GREGORIAN
METHOD:PUBLISH
X-WR-CALNAME:CBH Rio das Velhas
X-ORIGINAL-URL:https://cbhvelhas.org.br
X-WR-CALDESC:Eventos para CBH Rio das Velhas
BEGIN:VTIMEZONE
TZID:America/Sao_Paulo
BEGIN:STANDARD
TZOFFSETFROM:-0200
TZOFFSETTO:-0300
TZNAME:-03
DTSTART:20180218T020000
END:STANDARD
BEGIN:DAYLIGHT
TZOFFSETFROM:-0300
TZOFFSETTO:-0200
TZNAME:-02
DTSTART:20181104T030000
END:DAYLIGHT
END:VTIMEZONE
BEGIN:VEVENT
DTSTART;TZID=America/Sao_Paulo:20180424T140000
DTEND;TZID=America/Sao_Paulo:20180424T170000
DTSTAMP:20260422T185950
CREATED:20200213T185404Z
LAST-MODIFIED:20200213T185404Z
UID:61211-1524578400-1524589200@cbhvelhas.org.br
SUMMARY:Subcomitê Ribeirão Onça se reúne em Belo Horizonte
DESCRIPTION:Simpósio da Bacia Hidrográfica do Ribeirão Onça\, projetos de drenagem em Belo Horizonte e estudo de caso bacia do Isidoro estão entre os assuntos que serão discutido na reunião.\nO encontro acontecerá no dia 24 de abril (terça – feira)\, com início às 14 horas\, no Parque Estadual Serra Verde localizado na Rua da Cavalariça\, 99 – Serra Verde\, Belo Horizonte – MG\, Belo Horizonte – MG. \nConheça a pauta: \n1. 14h00 às 14h15 – Certificação de quórum e boas vindas.\n2. 14h15 às 15h15 – Informes Gerais:\n(I). Apresentação de boas vindas do Parque Estadual Serra Verde;\n(II). Plano de Trabalho Equipe de Mobilização\n(III). Atividades PROPAM\n(IV). Simpósio da Bacia Hidrográfica do Ribeirão Onça\n(V). Manifestação sobre os projetos de drenagem em Belo Horizonte. Acesse a carta elaborada pelo SCBH Ribeirão Arrudas na integra através do site: https://aguasemobilidadebh.wordpress.com/\n(VI). Encaminhamentos do 5º Fórum Comunitário Jardim Felicidade\n3. 15h15 às 16h00 – Planejamento de Ações – 2018\n4. 16h00 às 16h30 – Estudo de caso bacia do Isidoro – Julia Senra\n5. 16h30 às 17h00 – Encaminhamentos finais \nQuaisquer informações complementares e a confirmação de sua presença ou representante poderão ser realizadas por meio do telefone (31) 3222-8350 / 9.9817-2239 ou do endereço eletrônico luciana.gomes@cbhvelhas.org.br \nInformações sobre o SCBH Ribeirão Onça\, acesse: https://cbhvelhas.org.br/onca/
URL:https://cbhvelhas.org.br/evento/subcomite-ribeirao-onca-se-reune-em-belo-horizonte-6/
END:VEVENT
END:VCALENDAR