


BEGIN:VCALENDAR
VERSION:2.0
PRODID:-//CBH Rio das Velhas - ECPv5.16.3.1//NONSGML v1.0//EN
CALSCALE:GREGORIAN
METHOD:PUBLISH
X-WR-CALNAME:CBH Rio das Velhas
X-ORIGINAL-URL:https://cbhvelhas.org.br
X-WR-CALDESC:Eventos para CBH Rio das Velhas
BEGIN:VTIMEZONE
TZID:America/Sao_Paulo
BEGIN:STANDARD
TZOFFSETFROM:-0200
TZOFFSETTO:-0300
TZNAME:-03
DTSTART:20180218T020000
END:STANDARD
BEGIN:DAYLIGHT
TZOFFSETFROM:-0300
TZOFFSETTO:-0200
TZNAME:-02
DTSTART:20181104T030000
END:DAYLIGHT
END:VTIMEZONE
BEGIN:VEVENT
DTSTART;TZID=America/Sao_Paulo:20180403T140000
DTEND;TZID=America/Sao_Paulo:20180403T180000
DTSTAMP:20260421T120224
CREATED:20200213T185405Z
LAST-MODIFIED:20200213T185405Z
UID:61234-1522764000-1522778400@cbhvelhas.org.br
SUMMARY:Subcomitê Ribeirão Onça se reúne em Belo Horizonte (MG)
DESCRIPTION:Carta Aberta\, 5º Fórum Comunitário Jardim Felicidade e Seminário sobre o Parque Linear do Córrego do Capão  estão entre os assuntos que serão discutidos na reunião.\nA Reunião Extraordinária acontecerá no dia 03 de abril (terça – feira)\, com início às 14 horas\, na Sede do CEA PROPAM\, localizado na Rua Radialista Ubaldo Ferreira\, 20 – Castelo\, Belo Horizonte – MG. \nConheça a pauta:\n14h00 às 14h15 – Certificação de quórum. \n14h15 às 15h15 – Informes Gerais: \n(I). Retorno dos trabalhos da Equipe de Mobilização \n(II). Atuação da Coordenação – Novembro a Março – 2017/2018 \n(III). Carta Aberta À Prefeitura de Belo Horizonte\, À Câmara De Vereadores\, Ao Ministério Público. Acesse a carta na integra através do site: https://aguasemobilidadebh.wordpress.com/ \n(IV).Planejamento Estratégico Subcomitê 2017 – 2019 \n(V). 5º Fórum Comunitário Jardim Felicidade: Vozes Em Transformação (14 de Abril) \n(VI). Seminário: “O Melhor de Tudo é a Água: Juntos pela Implantação do Parque Linear Do Córrego Do Capão!” (14 de Abril) \n(VII).Intervenções MRV – Bacia Ribeirão Onça \n15h15 às 15h35 – Status Projeto Hidroambiental 2016 – Elaboração de Diagnóstico de Nascentes Urbanas na Bacia Hidrográfica do Ribeirão Onça – Ato Convocatório Nº 008/2016 – NMC Projetos e Consultorias; \n·Simpósio da Bacia Hidrográfica do Ribeirão Onça\, inscrições clique aqui \n15h35 às 16h00 – Atribuições do Ato Convocatório Nº 011/2016 – Contratação de Assessoramento Técnico-Operacional em Apoio Às Atividades da AGB Peixe Vivo para Fiscalização de Projetos Contratados Sob Demanda Do Comitê De Bacia Hidrográfica Do Rio das Velhas.- COBRAPE \n16h30 às 17h00 – Encaminhamentos finais \nQuaisquer informações complementares e a confirmação de sua presença ou representante poderão ser realizadas por meio do telefone (31) 3222-8350 / 9.9817-2239 ou pelo endereço eletrônico luciana.gomes@cbhvelhas.org.br. \nE acesse para mais informações sobre a UTE Ribeirão Onça.
URL:https://cbhvelhas.org.br/evento/subcomite-ribeirao-onca-se-reune-em-belo-horizonte-mg-2/
END:VEVENT
END:VCALENDAR