


BEGIN:VCALENDAR
VERSION:2.0
PRODID:-//CBH Rio das Velhas - ECPv5.16.3.1//NONSGML v1.0//EN
CALSCALE:GREGORIAN
METHOD:PUBLISH
X-WR-CALNAME:CBH Rio das Velhas
X-ORIGINAL-URL:https://cbhvelhas.org.br
X-WR-CALDESC:Eventos para CBH Rio das Velhas
BEGIN:VTIMEZONE
TZID:America/Sao_Paulo
BEGIN:STANDARD
TZOFFSETFROM:-0200
TZOFFSETTO:-0300
TZNAME:-03
DTSTART:20160221T020000
END:STANDARD
BEGIN:DAYLIGHT
TZOFFSETFROM:-0300
TZOFFSETTO:-0200
TZNAME:-02
DTSTART:20161016T030000
END:DAYLIGHT
END:VTIMEZONE
BEGIN:VEVENT
DTSTART;TZID=America/Sao_Paulo:20161221T100000
DTEND;TZID=America/Sao_Paulo:20161221T120000
DTSTAMP:20260423T140234
CREATED:20200213T185518Z
LAST-MODIFIED:20200213T185518Z
UID:61261-1482314400-1482321600@cbhvelhas.org.br
SUMMARY:Subcomitê Rio Caeté – Sabará se reúne em Caeté (MG)
DESCRIPTION:Aprovação dos Termos de Referência é um dos temas que será discutido na reunião.\nO encontro acontece no dia 21/12/16 (quarta-feira) no Museu Casa João Pinheiro (conhecido por Solar do Tinoco)\, localizado na Praça Paulo Pinheiro\, n° 01 próximo ao centro de Caeté/MG\, com início às 10h00. \nConheça a pauta:\n1. Recepção e Informes;\n2. Aprovação dos Termos de Referência – TDR do Projeto Hidroambiental da Mata da Caixinha (bairro S. Geraldo/Caeté). Sendo um (1) TDR de Mobilização e um (1) TDR de Saneamento e Drenagem. \nQuaisquer informações complementares e a confirmação de sua presença ou representante poderão ser feitas através do telefone (31) 3222-8350 ou por meio dos endereços eletrônicos elio.domingos@cbhvelhas.org.br e diogo.carvalho@cbhvelhas.org.br.
URL:https://cbhvelhas.org.br/evento/subcomite-rio-caete-sabara-se-reune-em-caete-mg/
END:VEVENT
END:VCALENDAR