


BEGIN:VCALENDAR
VERSION:2.0
PRODID:-//CBH Rio das Velhas - ECPv5.16.3.1//NONSGML v1.0//EN
CALSCALE:GREGORIAN
METHOD:PUBLISH
X-WR-CALNAME:CBH Rio das Velhas
X-ORIGINAL-URL:https://cbhvelhas.org.br
X-WR-CALDESC:Eventos para CBH Rio das Velhas
BEGIN:VTIMEZONE
TZID:America/Sao_Paulo
BEGIN:STANDARD
TZOFFSETFROM:-0200
TZOFFSETTO:-0300
TZNAME:-03
DTSTART:20180218T020000
END:STANDARD
BEGIN:DAYLIGHT
TZOFFSETFROM:-0300
TZOFFSETTO:-0200
TZNAME:-02
DTSTART:20181104T030000
END:DAYLIGHT
END:VTIMEZONE
BEGIN:VEVENT
DTSTART;TZID=America/Sao_Paulo:20180416T133000
DTEND;TZID=America/Sao_Paulo:20180416T170000
DTSTAMP:20260422T045700
CREATED:20200213T185404Z
LAST-MODIFIED:20200213T185404Z
UID:61222-1523885400-1523898000@cbhvelhas.org.br
SUMMARY:Subcomitê Rio Cipó se reúne em Jaboticatubas
DESCRIPTION:Loteamentos na UTE Rio Cipó\, cadastramento de usuários do distrito da Serra do Cipó\, expedição SOS Rio Vermelho e seminário Cipó e Paraúna estão entre os assuntos que serão discutidos na reunião.\nO encontro acontece no dia 16 de abril de 2018 (segunda-feira)\, às 13h30\, na Câmara Municipal de Jaboticatubas\, localizada na Rua Dom Carlos Vasconcelos\, 241\, Centro – Jaboticatubas – MG. \nConheça a pauta:\n1. Aprovação Registro reunião 19/03/2018;\n2. Discussão sobre instrumentos legais referentes aos loteamentos nos municípios de Jaboticatubas\, Santana do Riacho e demais municípios;\nInformes:\n– Reunião em Fechados;\n– Cadastramento de usuários do distrito da Serra do Cipó (COPASA);\n– Expedição SOS Rio Vermelho;\n– Seminário Cipó e Paraúna;\n– Status Projeto Hidroambiental;\n– Análise da porcentagem de áreas de reflorestamento na bacia do Rio Cipó (Instituto Espinhaço); \nQuaisquer informações complementares e a confirmação de sua presença ou representante poderão ser feitas através do telefone (31) 3222 8350\, ou por meio do endereço eletrônico ou izabel.nogueira@cbhvelhas.org.br.
URL:https://cbhvelhas.org.br/evento/subcomite-rio-cipo-se-reune-em-jaboticatubas/
END:VEVENT
END:VCALENDAR