


BEGIN:VCALENDAR
VERSION:2.0
PRODID:-//CBH Rio das Velhas - ECPv5.16.3.1//NONSGML v1.0//EN
CALSCALE:GREGORIAN
METHOD:PUBLISH
X-WR-CALNAME:CBH Rio das Velhas
X-ORIGINAL-URL:https://cbhvelhas.org.br
X-WR-CALDESC:Eventos para CBH Rio das Velhas
BEGIN:VTIMEZONE
TZID:America/Sao_Paulo
BEGIN:STANDARD
TZOFFSETFROM:-0200
TZOFFSETTO:-0300
TZNAME:-03
DTSTART:20180218T020000
END:STANDARD
BEGIN:DAYLIGHT
TZOFFSETFROM:-0300
TZOFFSETTO:-0200
TZNAME:-02
DTSTART:20181104T030000
END:DAYLIGHT
END:VTIMEZONE
BEGIN:VEVENT
DTSTART;TZID=America/Sao_Paulo:20180226T133000
DTEND;TZID=America/Sao_Paulo:20180226T170000
DTSTAMP:20260422T183841
CREATED:20200213T185406Z
LAST-MODIFIED:20200213T185406Z
UID:61247-1519651800-1519664400@cbhvelhas.org.br
SUMMARY:Subcomitê Rio Cipó se reúne na Serra do Cipó\, em Santana do Riacho (MG)
DESCRIPTION:Pesca predatória em Presidente Juscelino\, loteamentos as margem do Rio Cipó e projeto Instituto Espinhaço estão entre os assuntos que serão tratados na reunião.\nO encontro acontecerá no dia 26 de fevereiro (segunda-feira)\, na Associação Comunitária João Nogueira Duarte e Fundação Rio Cipó\, localizada à Rua Jatobá\, nº130\, Centro – Distrito da Serra do Cipó\, Santana do Riacho/MG\, com início às 13h30. \nConheça a Pauta:\n1. Discussão e aprovação da ata reunião: 17/07/2017;\n2. Informes gerais;\n3. Reunião SCBH Rio Cipó em fechados;\n4. Pesca predatória em Presidente Juscelino;\n5. Loteamentos as margem do Rio Cipó;\n6. Loteamentos irregulares em Jaboticatubas\,\n7. Informações sobre o projeto Instituto espinhaço . \nQuaisquer informações complementares e a confirmação de sua presença ou representante poderão ser feitas através do telefone (31) 98884 2634\, ou por meio do endereço eletrônico ou sonyaih@hotmail.com
URL:https://cbhvelhas.org.br/evento/subcomite-rio-cipo-se-reune-na-serra-do-cipo-em-santana-do-riacho-mg/
END:VEVENT
END:VCALENDAR