


BEGIN:VCALENDAR
VERSION:2.0
PRODID:-//CBH Rio das Velhas - ECPv5.16.3.1//NONSGML v1.0//EN
CALSCALE:GREGORIAN
METHOD:PUBLISH
X-WR-CALNAME:CBH Rio das Velhas
X-ORIGINAL-URL:https://cbhvelhas.org.br
X-WR-CALDESC:Eventos para CBH Rio das Velhas
BEGIN:VTIMEZONE
TZID:America/Sao_Paulo
BEGIN:STANDARD
TZOFFSETFROM:-0200
TZOFFSETTO:-0300
TZNAME:-03
DTSTART:20180218T020000
END:STANDARD
BEGIN:DAYLIGHT
TZOFFSETFROM:-0300
TZOFFSETTO:-0200
TZNAME:-02
DTSTART:20181104T030000
END:DAYLIGHT
END:VTIMEZONE
BEGIN:VEVENT
DTSTART;TZID=America/Sao_Paulo:20180426T130000
DTEND;TZID=America/Sao_Paulo:20180426T160000
DTSTAMP:20260423T021852
CREATED:20200213T185403Z
LAST-MODIFIED:20200213T185403Z
UID:61209-1524747600-1524758400@cbhvelhas.org.br
SUMMARY:Subcomitê Rio Curimataí se reúne em Augusto de Lima
DESCRIPTION:Projeto hidroambiental da UTE Rio Curimataí é um dos assuntos que será discutido na reunião.\nO encontro acontecerá no dia 26 de abril (quinta-feira)\, no Auditório da Câmara de Vereadores de Augusto de Lima\, localizado na Rua Coronel Pedro Pedras\, Nº220\, Centro no município de Augusto de Lima\, com início às 13h00 horas. \nConheça a pauta: \n13:00h às 13:20h – Recepção de Conselheiros e Convidados.\n13:20h às 13:30h – Abertura da reunião.\n– Boas vindas – coordenador geral: Valmir Barral\n– Aprovação da ata 24ª reunião ordinária SCBH Rio Curimataí reunião realizada 21/12/2017.\n13:30hs às 14:00hs – Informes –\n14:00hs às 14:30hs – Adequações adotadas em campo para eficácia do “Projeto Hidroambiental Mitigação de Processo de Erosão e Assoreamento de Cursos d’Água da UTE Rio Curimataí”\, visando o envolvimento dos produtores rurais na preservação dos recursos hídricos – Valmir Barral – Coordenador Geral do SCBH Rio Curimataí.\n14:30hs às 15:00hs – Status do andamento do Projeto Hidroambiental Mitigação de Processo de Erosão e Assoreamento de Cursos d’Água da UTE Rio Curimataí – Ato Convocatório Nº 016/20167. Apresentação Fabiano Luciano – Técnico de campo da INOVESA – Soluções em Engenharia Ambiental.\n15:00hs às 15:30hs – Contratação de Assessoramento Técnico-Operacional em apoio as atividades da Agência Peixe Vivo para Fiscalização de Projetos Contratados Sob Demanda Do Comitê de Bacia Hidrográfica do Rio das Velhas – Atribuições do Ato Convocatório Nº 011/2016 – apresentação: Bruno Teixeira – COBRAPE.\n15:30hs às 16:00hs – Palavra aberta – Esclarecimento de duvidas\n16:00hs às 16:30hs. – Encaminhamentos e encerramento. \nQuaisquer informações complementares e a confirmação de sua presença ou representante poderão ser feitas através dos telefones (31) 32228350 ou por meio do endereço eletrônico: derza.nogueira@cbhvelhas.org.br.
URL:https://cbhvelhas.org.br/evento/subcomite-rio-curimatai-se-reune-em-augusto-de-lima-3/
END:VEVENT
END:VCALENDAR