


BEGIN:VCALENDAR
VERSION:2.0
PRODID:-//CBH Rio das Velhas - ECPv5.16.3.1//NONSGML v1.0//EN
CALSCALE:GREGORIAN
METHOD:PUBLISH
X-WR-CALNAME:CBH Rio das Velhas
X-ORIGINAL-URL:https://cbhvelhas.org.br
X-WR-CALDESC:Eventos para CBH Rio das Velhas
BEGIN:VTIMEZONE
TZID:America/Sao_Paulo
BEGIN:STANDARD
TZOFFSETFROM:-0200
TZOFFSETTO:-0300
TZNAME:-03
DTSTART:20160221T020000
END:STANDARD
BEGIN:DAYLIGHT
TZOFFSETFROM:-0300
TZOFFSETTO:-0200
TZNAME:-02
DTSTART:20161016T030000
END:DAYLIGHT
END:VTIMEZONE
BEGIN:VEVENT
DTSTART;TZID=America/Sao_Paulo:20161027T133000
DTEND;TZID=America/Sao_Paulo:20161027T163000
DTSTAMP:20260422T093211
CREATED:20200213T185520Z
LAST-MODIFIED:20200213T185520Z
UID:61302-1477575000-1477585800@cbhvelhas.org.br
SUMMARY:Subcomitê Rio Curimataí se reúne em Buenópolis (MG)
DESCRIPTION:Apresentação dos resultados preliminares da Expedição Serra do Cabral e planejamento do workshop\, recuperação de nascentes pelo SENAR na bacia do Rio Curimataí e projeto hidroambiental estão entre os assuntos que serão discutidos na reunião.\nO encontro acontecerá no dia 27 de outubro (quinta-feira)\, no Salão Plenário Câmara de Vereadores\, Av. JK\, Nº 69\, Centro\, no município de Buenópolis\, com início às 13h30min. \nConheça a pauta:\n13:30h às 13:45h – Recepção de Conselheiros e Convidados.\n13:45h às 14:00h – Abertura da reunião. \n. Coordenador do SCBH rio Curimataí – Hugo Lana\n. Aprovação da ata 17ª reunião realizada 26/08/2016. \n14:00hs às 14:15hs – Informes: Palavra aberta\n14:15hs às 14:45hs – Apresentação dos resultados preliminares da Expedição Serra do Cabral e Planejamento do WORKSHOP – Rodrigo Lemos\n14:45hs às 15:10hs – Apresentação da formação de recuperação de nascentes pelo SENAR na bacia do rio Curimataí – Hugo Lana\n15:10hs às 16:10hs. Projeto Hidroambiental “Elaboração do TDR execução da construção barraginhas na UTE Rio Curimataí” – Apresentação empresa contratada Consominas\n16:10h às 16:30h – Reunião com os coordenadores dos subcomitês – Apresentação plano de trabalho da Equipe de Mobilização do Comitê da Bacia do Rio das Velhas – planejamento das atividades para o ano de 2017.\n16:30hs às 16:40hs – Encaminhamentos e encerramento. \nQuaisquer informações complementares e a confirmação de sua presença ou representante poderão ser feitas através dos telefones (31) 3222-8350 ou por meio do endereço eletrônico:  derza.nogueira@cbhvelhas.org.br.
URL:https://cbhvelhas.org.br/evento/subcomite-rio-curimatai-se-reune-em-buenopolis-mg/
END:VEVENT
END:VCALENDAR