


BEGIN:VCALENDAR
VERSION:2.0
PRODID:-//CBH Rio das Velhas - ECPv5.16.3.1//NONSGML v1.0//EN
CALSCALE:GREGORIAN
METHOD:PUBLISH
X-WR-CALNAME:CBH Rio das Velhas
X-ORIGINAL-URL:https://cbhvelhas.org.br
X-WR-CALDESC:Eventos para CBH Rio das Velhas
BEGIN:VTIMEZONE
TZID:America/Sao_Paulo
BEGIN:STANDARD
TZOFFSETFROM:-0200
TZOFFSETTO:-0300
TZNAME:-03
DTSTART:20180218T020000
END:STANDARD
BEGIN:DAYLIGHT
TZOFFSETFROM:-0300
TZOFFSETTO:-0200
TZNAME:-02
DTSTART:20181104T030000
END:DAYLIGHT
END:VTIMEZONE
BEGIN:VEVENT
DTSTART;TZID=America/Sao_Paulo:20180516T093000
DTEND;TZID=America/Sao_Paulo:20180516T120000
DTSTAMP:20260425T211933
CREATED:20200213T185402Z
LAST-MODIFIED:20200213T185402Z
UID:61193-1526463000-1526472000@cbhvelhas.org.br
SUMMARY:Subcomitê Santo Antônio/Maquiné se reúne em Curvelo
DESCRIPTION:Seminário do Programa Revitaliza Rio das Velhas\, participação na Semana de Meio Ambiente – 2018 e projeto hidroambiental do Córrego Santa Maria estão entre os assuntos que serão discutidos na reunião.\nO encontro acontece no dia 16 de maio\, quarta-feira\, às 09:30h\, no Sindicato dos Trabalhadores nas Indústrias de Fiação e Tecelagem de Curvelo\, localizado na Av. Afonso Pena\, 477 – Centro. \nConheça a pauta:\nRecepção de conselheiros (as) e convidados (as)\n1 – Aprovação da minuta de ata: 18/04/2018.\n2 – Informes Gerais: Palavra Aberta;\n(i). Seminário do Programa Revitaliza Rio das Velhas – Curvelo;\n(ii). Participação semana meio ambiente – 2018;\n(iii). Licitação do Projeto Hidroambiental do Córrego Santa Maria;\n3 – Planejamento do Diagnóstico da sub-bacia do Riacho Fundo: Demanda apresentada ao CBH Rio das Velhas;\n4 – Discussão e encaminhamentos. \nQuaisquer informações complementares e a confirmação de sua presença ou representante poderão ser feitas através do telefone (31) 3222-8350 e por meio dos endereços eletrônicos politacito@cbhvelhas.org.br e/ou subcomitesantoantoniomaquine@gmail.com
URL:https://cbhvelhas.org.br/evento/subcomite-santo-antonio-maquine-se-reune-em-curvelo-8/
END:VEVENT
END:VCALENDAR